BEGIN:VCALENDAR
VERSION:2.0
PRODID:-//ノーズワークスポーツクラブ - ECPv6.15.20//NONSGML v1.0//EN
CALSCALE:GREGORIAN
METHOD:PUBLISH
X-WR-CALNAME:ノーズワークスポーツクラブ
X-ORIGINAL-URL:https://noseworksportsclub.jp
X-WR-CALDESC:ノーズワークスポーツクラブ のイベント
REFRESH-INTERVAL;VALUE=DURATION:PT1H
X-Robots-Tag:noindex
X-PUBLISHED-TTL:PT1H
BEGIN:VTIMEZONE
TZID:Asia/Tokyo
BEGIN:STANDARD
TZOFFSETFROM:+0900
TZOFFSETTO:+0900
TZNAME:JST
DTSTART:20250101T000000
END:STANDARD
END:VTIMEZONE
BEGIN:VEVENT
DTSTART;TZID=Asia/Tokyo:20260402T090000
DTEND;TZID=Asia/Tokyo:20260403T170000
DTSTAMP:20260421T204306
CREATED:20260126T143828Z
LAST-MODIFIED:20260126T143828Z
UID:8380-1775120400-1775235600@noseworksportsclub.jp
SUMMARY:【山梨】八ヶ岳 マッツ・ヘドルンド対面セミナー
DESCRIPTION:
URL:https://noseworksportsclub.jp/event/%e3%80%90%e5%b1%b1%e6%a2%a8%e3%80%91%e5%85%ab%e3%83%b6%e5%b2%b3-%e3%83%9e%e3%83%83%e3%83%84%e3%83%bb%e3%83%98%e3%83%89%e3%83%ab%e3%83%b3%e3%83%89%e5%af%be%e9%9d%a2%e3%82%bb%e3%83%9f%e3%83%8a%e3%83%bc/
CATEGORIES:セミナー
END:VEVENT
END:VCALENDAR