BEGIN:VCALENDAR
VERSION:2.0
PRODID:-//ノーズワークスポーツクラブ - ECPv6.15.20//NONSGML v1.0//EN
CALSCALE:GREGORIAN
METHOD:PUBLISH
X-WR-CALNAME:ノーズワークスポーツクラブ
X-ORIGINAL-URL:https://noseworksportsclub.jp
X-WR-CALDESC:ノーズワークスポーツクラブ のイベント
REFRESH-INTERVAL;VALUE=DURATION:PT1H
X-Robots-Tag:noindex
X-PUBLISHED-TTL:PT1H
BEGIN:VTIMEZONE
TZID:Asia/Tokyo
BEGIN:STANDARD
TZOFFSETFROM:+0900
TZOFFSETTO:+0900
TZNAME:JST
DTSTART:20240101T000000
END:STANDARD
END:VTIMEZONE
BEGIN:VEVENT
DTSTART;TZID=Asia/Tokyo:20250927T093000
DTEND;TZID=Asia/Tokyo:20250927T160000
DTSTAMP:20260422T080033
CREATED:20250727T153253Z
LAST-MODIFIED:20250727T153253Z
UID:7639-1758965400-1758988800@noseworksportsclub.jp
SUMMARY:【千葉】練習競技会（単課目）コンテナ & ハンドリングレッスン in 千葉
DESCRIPTION:
URL:https://noseworksportsclub.jp/event/%e3%80%90%e5%8d%83%e8%91%89%e3%80%91%e7%b7%b4%e7%bf%92%e7%ab%b6%e6%8a%80%e4%bc%9a%ef%bc%88%e5%8d%98%e8%aa%b2%e7%9b%ae%ef%bc%89%e3%82%b3%e3%83%b3%e3%83%86%e3%83%8a-%e3%83%8f%e3%83%b3%e3%83%89/
CATEGORIES:教室・レッスン,模擬競技会・ファンマッチ
END:VEVENT
BEGIN:VEVENT
DTSTART;TZID=Asia/Tokyo:20250927T110000
DTEND;TZID=Asia/Tokyo:20250927T170000
DTSTAMP:20260422T080033
CREATED:20250904T145812Z
LAST-MODIFIED:20250904T145812Z
UID:7726-1758970800-1758992400@noseworksportsclub.jp
SUMMARY:【埼玉】【埼スタ】ノーズワーク体験 in わんこのフェス
DESCRIPTION:
URL:https://noseworksportsclub.jp/event/%e3%80%90%e5%9f%bc%e7%8e%89%e3%80%91%e3%80%90%e5%9f%bc%e3%82%b9%e3%82%bf%e3%80%91%e3%83%8e%e3%83%bc%e3%82%ba%e3%83%af%e3%83%bc%e3%82%af%e4%bd%93%e9%a8%93-in-%e3%82%8f%e3%82%93%e3%81%93%e3%81%ae/
CATEGORIES:イベント・体験会
END:VEVENT
END:VCALENDAR