BEGIN:VCALENDAR
VERSION:2.0
PRODID:-//ノーズワークスポーツクラブ - ECPv6.15.20//NONSGML v1.0//EN
CALSCALE:GREGORIAN
METHOD:PUBLISH
X-ORIGINAL-URL:https://noseworksportsclub.jp
X-WR-CALDESC:ノーズワークスポーツクラブ のイベント
REFRESH-INTERVAL;VALUE=DURATION:PT1H
X-Robots-Tag:noindex
X-PUBLISHED-TTL:PT1H
BEGIN:VTIMEZONE
TZID:Asia/Tokyo
BEGIN:STANDARD
TZOFFSETFROM:+0900
TZOFFSETTO:+0900
TZNAME:JST
DTSTART:20240101T000000
END:STANDARD
END:VTIMEZONE
BEGIN:VEVENT
DTSTART;TZID=Asia/Tokyo:20250414T084500
DTEND;TZID=Asia/Tokyo:20250414T170000
DTSTAMP:20260422T163540
CREATED:20250129T105816Z
LAST-MODIFIED:20250129T105816Z
UID:7158-1744620300-1744650000@noseworksportsclub.jp
SUMMARY:マッツ・ヘドルンド氏によるNW2攻略セミナー in 道志村
DESCRIPTION:
URL:https://noseworksportsclub.jp/event/%e3%83%9e%e3%83%83%e3%83%84%e3%83%bb%e3%83%98%e3%83%89%e3%83%ab%e3%83%b3%e3%83%89%e6%b0%8f%e3%81%ab%e3%82%88%e3%82%8bnw2%e6%94%bb%e7%95%a5%e3%82%bb%e3%83%9f%e3%83%8a%e3%83%bc-in-%e9%81%93%e5%bf%97/
CATEGORIES:セミナー
END:VEVENT
END:VCALENDAR