BEGIN:VCALENDAR
VERSION:2.0
PRODID:-//ノーズワークスポーツクラブ - ECPv6.15.20//NONSGML v1.0//EN
CALSCALE:GREGORIAN
METHOD:PUBLISH
X-ORIGINAL-URL:https://noseworksportsclub.jp
X-WR-CALDESC:ノーズワークスポーツクラブ のイベント
REFRESH-INTERVAL;VALUE=DURATION:PT1H
X-Robots-Tag:noindex
X-PUBLISHED-TTL:PT1H
BEGIN:VTIMEZONE
TZID:Asia/Tokyo
BEGIN:STANDARD
TZOFFSETFROM:+0900
TZOFFSETTO:+0900
TZNAME:JST
DTSTART:20240101T000000
END:STANDARD
END:VTIMEZONE
BEGIN:VEVENT
DTSTART;TZID=Asia/Tokyo:20250322T123000
DTEND;TZID=Asia/Tokyo:20250322T131500
DTSTAMP:20260422T181550
CREATED:20250323T070423Z
LAST-MODIFIED:20250323T070423Z
UID:7293-1742646600-1742649300@noseworksportsclub.jp
SUMMARY:【千葉】ノーズワーク体験「においの覚え方レッスン」＠野田
DESCRIPTION:
URL:https://noseworksportsclub.jp/event/%e3%80%90%e5%8d%83%e8%91%89%e3%80%91%e3%83%8e%e3%83%bc%e3%82%ba%e3%83%af%e3%83%bc%e3%82%af%e4%bd%93%e9%a8%93%e3%80%8c%e3%81%ab%e3%81%8a%e3%81%84%e3%81%ae%e8%a6%9a%e3%81%88%e6%96%b9%e3%83%ac%e3%83%83/
CATEGORIES:イベント・体験会
END:VEVENT
END:VCALENDAR