BEGIN:VCALENDAR
VERSION:2.0
PRODID:-//ノーズワークスポーツクラブ - ECPv6.15.20//NONSGML v1.0//EN
CALSCALE:GREGORIAN
METHOD:PUBLISH
X-ORIGINAL-URL:https://noseworksportsclub.jp
X-WR-CALDESC:ノーズワークスポーツクラブ のイベント
REFRESH-INTERVAL;VALUE=DURATION:PT1H
X-Robots-Tag:noindex
X-PUBLISHED-TTL:PT1H
BEGIN:VTIMEZONE
TZID:Asia/Tokyo
BEGIN:STANDARD
TZOFFSETFROM:+0900
TZOFFSETTO:+0900
TZNAME:JST
DTSTART:20240101T000000
END:STANDARD
END:VTIMEZONE
BEGIN:VEVENT
DTSTART;TZID=Asia/Tokyo:20250127T190000
DTEND;TZID=Asia/Tokyo:20250127T210000
DTSTAMP:20260422T195803
CREATED:20250430T070412Z
LAST-MODIFIED:20250430T070412Z
UID:7414-1738004400-1738011600@noseworksportsclub.jp
SUMMARY:マッツ・ヘドルンド氏による『ノーズワーク、風の不思議』Zoomウェビナー
DESCRIPTION:
URL:https://noseworksportsclub.jp/event/%e3%83%9e%e3%83%83%e3%83%84%e3%83%bb%e3%83%98%e3%83%89%e3%83%ab%e3%83%b3%e3%83%89%e6%b0%8f%e3%81%ab%e3%82%88%e3%82%8b%e3%80%8e%e3%83%8e%e3%83%bc%e3%82%ba%e3%83%af%e3%83%bc%e3%82%af%e3%80%81%e9%a2%a8/
CATEGORIES:オンライン
END:VEVENT
END:VCALENDAR