BEGIN:VCALENDAR
VERSION:2.0
PRODID:-//ノーズワークスポーツクラブ - ECPv6.15.20//NONSGML v1.0//EN
CALSCALE:GREGORIAN
METHOD:PUBLISH
X-ORIGINAL-URL:https://noseworksportsclub.jp
X-WR-CALDESC:ノーズワークスポーツクラブ のイベント
REFRESH-INTERVAL;VALUE=DURATION:PT1H
X-Robots-Tag:noindex
X-PUBLISHED-TTL:PT1H
BEGIN:VTIMEZONE
TZID:Asia/Tokyo
BEGIN:STANDARD
TZOFFSETFROM:+0900
TZOFFSETTO:+0900
TZNAME:JST
DTSTART:20230101T000000
END:STANDARD
END:VTIMEZONE
BEGIN:VEVENT
DTSTART;VALUE=DATE:20241101
DTEND;VALUE=DATE:20241105
DTSTAMP:20260423T022511
CREATED:20240721T074201Z
LAST-MODIFIED:20240724T041230Z
UID:6212-1730419200-1730764799@noseworksportsclub.jp
SUMMARY:【山梨】第2期JNWSC公認インストラクターコース・前期対面セミナー
DESCRIPTION:
URL:https://noseworksportsclub.jp/event/%e7%ac%ac2%e6%9c%9f%ef%bd%8a%ef%bd%8e%ef%bd%97%ef%bd%93%ef%bd%83%e5%85%ac%e8%aa%8d%e3%82%a4%e3%83%b3%e3%82%b9%e3%83%88%e3%83%a9%e3%82%af%e3%82%bf%e3%83%bc%e3%82%b3%e3%83%bc%e3%82%b9%e3%83%bb%e5%89%8d/
CATEGORIES:養成コース
END:VEVENT
END:VCALENDAR