BEGIN:VCALENDAR
VERSION:2.0
PRODID:-//ノーズワークスポーツクラブ - ECPv6.15.20//NONSGML v1.0//EN
CALSCALE:GREGORIAN
METHOD:PUBLISH
X-WR-CALNAME:ノーズワークスポーツクラブ
X-ORIGINAL-URL:https://noseworksportsclub.jp
X-WR-CALDESC:ノーズワークスポーツクラブ のイベント
REFRESH-INTERVAL;VALUE=DURATION:PT1H
X-Robots-Tag:noindex
X-PUBLISHED-TTL:PT1H
BEGIN:VTIMEZONE
TZID:Asia/Tokyo
BEGIN:STANDARD
TZOFFSETFROM:+0900
TZOFFSETTO:+0900
TZNAME:JST
DTSTART:20230101T000000
END:STANDARD
END:VTIMEZONE
BEGIN:VEVENT
DTSTART;TZID=Asia/Tokyo:20241014T100000
DTEND;TZID=Asia/Tokyo:20241014T123000
DTSTAMP:20260423T023118
CREATED:20240823T092157Z
LAST-MODIFIED:20240823T092157Z
UID:6459-1728900000-1728909000@noseworksportsclub.jp
SUMMARY:【東京】におい認識テスト NW1 NW2 NW3
DESCRIPTION:
URL:https://noseworksportsclub.jp/event/%e3%80%90%e6%9d%b1%e4%ba%ac%e3%80%91%e3%81%ab%e3%81%8a%e3%81%84%e8%aa%8d%e8%ad%98%e3%83%86%e3%82%b9%e3%83%88-nw1-nw2-nw3/
CATEGORIES:におい認識テスト・競技会
END:VEVENT
BEGIN:VEVENT
DTSTART;TZID=Asia/Tokyo:20241014T190000
DTEND;TZID=Asia/Tokyo:20241014T210000
DTSTAMP:20260423T023118
CREATED:20240721T073900Z
LAST-MODIFIED:20240724T041345Z
UID:6210-1728932400-1728939600@noseworksportsclub.jp
SUMMARY:＜ウェビナー＞第2期JNWSC公認インストラクターコース・ウェビナー③
DESCRIPTION:
URL:https://noseworksportsclub.jp/event/%e7%ac%ac%ef%bc%92%e6%9c%9f%ef%bd%8a%ef%bd%8e%ef%bd%97%ef%bd%93%ef%bd%83%e5%85%ac%e8%aa%8d%e3%82%a4%e3%83%b3%e3%82%b9%e3%83%88%e3%83%a9%e3%82%af%e3%82%bf%e3%83%bc%e3%82%b3%e3%83%bc%e3%82%b9%e3%83%bb/
CATEGORIES:養成コース
END:VEVENT
END:VCALENDAR