BEGIN:VCALENDAR
VERSION:2.0
PRODID:-//ノーズワークスポーツクラブ - ECPv6.15.20//NONSGML v1.0//EN
CALSCALE:GREGORIAN
METHOD:PUBLISH
X-ORIGINAL-URL:https://noseworksportsclub.jp
X-WR-CALDESC:ノーズワークスポーツクラブ のイベント
REFRESH-INTERVAL;VALUE=DURATION:PT1H
X-Robots-Tag:noindex
X-PUBLISHED-TTL:PT1H
BEGIN:VTIMEZONE
TZID:Asia/Tokyo
BEGIN:STANDARD
TZOFFSETFROM:+0900
TZOFFSETTO:+0900
TZNAME:JST
DTSTART:20230101T000000
END:STANDARD
END:VTIMEZONE
BEGIN:VEVENT
DTSTART;TZID=Asia/Tokyo:20240722T210000
DTEND;TZID=Asia/Tokyo:20240722T220000
DTSTAMP:20260423T080439
CREATED:20240423T104829Z
LAST-MODIFIED:20240709T155359Z
UID:5173-1721682000-1721685600@noseworksportsclub.jp
SUMMARY:【7/22 Clubhouse】ノーズワーク座談会
DESCRIPTION:ノーズワークスポーツクラブノーズワークスポーツクラブ（Japan Nosework Sports Club）www.clubhouse.com
URL:https://noseworksportsclub.jp/event/%e3%80%907-22-clubhouse%e3%80%91%e3%83%8e%e3%83%bc%e3%82%ba%e3%83%af%e3%83%bc%e3%82%af%e5%ba%a7%e8%ab%87%e4%bc%9a/
CATEGORIES:オンライン
ORGANIZER;CN="JNWSC":MAILTO:info @ noseworksportsclub.jp
END:VEVENT
END:VCALENDAR