BEGIN:VCALENDAR
VERSION:2.0
PRODID:-//ノーズワークスポーツクラブ - ECPv6.15.20//NONSGML v1.0//EN
CALSCALE:GREGORIAN
METHOD:PUBLISH
X-ORIGINAL-URL:https://noseworksportsclub.jp
X-WR-CALDESC:ノーズワークスポーツクラブ のイベント
REFRESH-INTERVAL;VALUE=DURATION:PT1H
X-Robots-Tag:noindex
X-PUBLISHED-TTL:PT1H
BEGIN:VTIMEZONE
TZID:Asia/Tokyo
BEGIN:STANDARD
TZOFFSETFROM:+0900
TZOFFSETTO:+0900
TZNAME:JST
DTSTART:20230101T000000
END:STANDARD
END:VTIMEZONE
BEGIN:VEVENT
DTSTART;TZID=Asia/Tokyo:20240707T083000
DTEND;TZID=Asia/Tokyo:20240707T140000
DTSTAMP:20260423T080356
CREATED:20240423T102857Z
LAST-MODIFIED:20240426T150653Z
UID:5167-1720341000-1720360800@noseworksportsclub.jp
SUMMARY:【7/7 兵庫】第9回ドックローバーノーズワークコンペティション
DESCRIPTION:イベント種別：模擬競技会\nイベント名：第9回ドックローバーノーズワークコンペティション\nイベントURL　reserve.peraichi.com/r/f38897aa?_gl=1*1xeqr6u*_gcl_au*NjcwNDUzOTY4LjE3MTMxNzI4MTc.\n開催日時：2024-07-07\n開催時間：8:30〜14：00\n開催場所：兵庫ファイン工業（株）第2工場　兵庫県加西市殿原438-1\n参加費：9000円\n定員：上限なし\n参加条件\nNW1程度の設定をサーチできる犬\n詳細\n最大18組まで \n主催：DOCROVER\n担当者名：長谷川光
URL:https://noseworksportsclub.jp/event/%e3%80%907-7-%e5%85%b5%e5%ba%ab%e3%80%91%e6%a8%a1%e6%93%ac%e7%ab%b6%e6%8a%80%e4%bc%9a/
LOCATION:兵庫ファイン工業（株）第2工場\, 兵庫県加西市殿原438-1\, 日本
CATEGORIES:模擬競技会・ファンマッチ
ATTACH;FMTTYPE=image/jpeg:https://noseworksportsclub.jp/wp-content/uploads/2024/04/6BBA0905-7F3B-4D78-BD35-1BF594E7F711.jpg
END:VEVENT
END:VCALENDAR