BEGIN:VCALENDAR
VERSION:2.0
PRODID:-//ノーズワークスポーツクラブ - ECPv6.15.20//NONSGML v1.0//EN
CALSCALE:GREGORIAN
METHOD:PUBLISH
X-WR-CALNAME:ノーズワークスポーツクラブ
X-ORIGINAL-URL:https://noseworksportsclub.jp
X-WR-CALDESC:ノーズワークスポーツクラブ のイベント
REFRESH-INTERVAL;VALUE=DURATION:PT1H
X-Robots-Tag:noindex
X-PUBLISHED-TTL:PT1H
BEGIN:VTIMEZONE
TZID:Asia/Tokyo
BEGIN:STANDARD
TZOFFSETFROM:+0900
TZOFFSETTO:+0900
TZNAME:JST
DTSTART:20230101T000000
END:STANDARD
END:VTIMEZONE
BEGIN:VEVENT
DTSTART;TZID=Asia/Tokyo:20240629T090000
DTEND;TZID=Asia/Tokyo:20240629T123000
DTSTAMP:20260423T093419
CREATED:20231230T040447Z
LAST-MODIFIED:20240517T134207Z
UID:4500-1719651600-1719664200@noseworksportsclub.jp
SUMMARY:【6/29 東京】におい認識テスト
DESCRIPTION:イベント名：におい認識テスト\nイベントURLhttps://docs.google.com/forms/d/e/1FAIpQLSduqkNjMcJi_yD9MPaK-jF5Cjdf4l4p7FvxGnWC67p93EcHEA/viewform\n開催日時：2024-06-29\n開催時間：9:00〜12：30\n開催場所：〒197-0834　あきる野市引田1335-10  東京サマーランド ゴルフ練習場（屋内開催）\n開催場所URL：https://maps.app.goo.gl/wqtuPAX52PhpFeUCA\n参加費：5\,500円\n定員：10組\n参加条件\nNW1＋NW2＋NW3\n詳細\nにおい認識テスト：NW1、NW2、NW3\n定員：10組　 屋内開催 \nテスト終了後、競技会体験教室　4\,000円/組\nにおい認識テスト&教室の両方参加の方は割引あり \n主催：SCENT LINE\n担当者名：近藤奈緒子
URL:https://noseworksportsclub.jp/event/%e3%80%902-27-%e6%9d%b1%e4%ba%ac%e3%80%91%e3%81%ab%e3%81%8a%e3%81%84%e8%aa%8d%e8%ad%98%e3%83%86%e3%82%b9%e3%83%88/
LOCATION:東京サマーランドゴルフ練習場\, あきる野市引田1335-10\, 日本
CATEGORIES:におい認識テスト・競技会
ATTACH;FMTTYPE=image/jpeg:https://noseworksportsclub.jp/wp-content/uploads/2023/12/88f6f4cd3e660041ae2dc484f1b360c7.jpg
ORGANIZER;CN="SCENT LINE(%E3%82%BB%E3%83%B3%E3%83%88%E3%83%A9%E3%82%A4%E3%83%B3)%EF%BC%9A%E8%BF%91%E8%97%A4":MAILTO:mail@scentline.jp
END:VEVENT
END:VCALENDAR