BEGIN:VCALENDAR
VERSION:2.0
PRODID:-//ノーズワークスポーツクラブ - ECPv6.15.20//NONSGML v1.0//EN
CALSCALE:GREGORIAN
METHOD:PUBLISH
X-ORIGINAL-URL:https://noseworksportsclub.jp
X-WR-CALDESC:ノーズワークスポーツクラブ のイベント
REFRESH-INTERVAL;VALUE=DURATION:PT1H
X-Robots-Tag:noindex
X-PUBLISHED-TTL:PT1H
BEGIN:VTIMEZONE
TZID:Asia/Tokyo
BEGIN:STANDARD
TZOFFSETFROM:+0900
TZOFFSETTO:+0900
TZNAME:JST
DTSTART:20230101T000000
END:STANDARD
END:VTIMEZONE
BEGIN:VEVENT
DTSTART;TZID=Asia/Tokyo:20240520T100000
DTEND;TZID=Asia/Tokyo:20240520T104500
DTSTAMP:20260423T112520
CREATED:20240508T143232Z
LAST-MODIFIED:20240508T143232Z
UID:5323-1716199200-1716201900@noseworksportsclub.jp
SUMMARY:【５/20 東京】北欧流ノーズワーク教室
DESCRIPTION:イベント名：北欧流ノーズワーク教室\nイベントURL www.instagram.com/ekoko.petcare?igsh=dXVldGlnZmltbG1v&utm_source=qr\n開催日時：2024-05-20\n開催時間：10:00〜10：45\n開催場所：東京都三鷹市新川２丁目９−３\n開催場所URL：http://diystoremitaka.com/\n参加費：3000円\n定員：2組\n参加条件\n初心者歓迎\n詳細\nお申込お問合せは、インスタプロフィールリンク、またはメールでご連絡ください。\n体験歓迎(2000円＋プレゼント付)\n見学ご希望の場合、事前にご連絡ください。\n1組2頭以上の場合も事前にご連絡ください。 \n主催：e!ココ PET CARE\n担当者名：高見未知子
URL:https://noseworksportsclub.jp/event/%e3%80%90%ef%bc%95-20-%e6%9d%b1%e4%ba%ac%e3%80%91%e5%8c%97%e6%ac%a7%e6%b5%81%e3%83%8e%e3%83%bc%e3%82%ba%e3%83%af%e3%83%bc%e3%82%af%e6%95%99%e5%ae%a4/
LOCATION:DIY STORE三鷹\, 東京都三鷹市新川2-9-3\, 日本
CATEGORIES:教室・レッスン
ATTACH;FMTTYPE=image/jpeg:https://noseworksportsclub.jp/wp-content/uploads/2024/05/0A96C27F-392A-4B3F-AE16-19DCE9EDF924.jpg
END:VEVENT
END:VCALENDAR