BEGIN:VCALENDAR
VERSION:2.0
PRODID:-//ノーズワークスポーツクラブ - ECPv6.15.20//NONSGML v1.0//EN
CALSCALE:GREGORIAN
METHOD:PUBLISH
X-ORIGINAL-URL:https://noseworksportsclub.jp
X-WR-CALDESC:ノーズワークスポーツクラブ のイベント
REFRESH-INTERVAL;VALUE=DURATION:PT1H
X-Robots-Tag:noindex
X-PUBLISHED-TTL:PT1H
BEGIN:VTIMEZONE
TZID:Asia/Tokyo
BEGIN:STANDARD
TZOFFSETFROM:+0900
TZOFFSETTO:+0900
TZNAME:JST
DTSTART:20230101T000000
END:STANDARD
END:VTIMEZONE
BEGIN:VEVENT
DTSTART;TZID=Asia/Tokyo:20240422T100000
DTEND;TZID=Asia/Tokyo:20240422T114500
DTSTAMP:20260423T131451
CREATED:20240326T134651Z
LAST-MODIFIED:20240326T135545Z
UID:4970-1713780000-1713786300@noseworksportsclub.jp
SUMMARY:【4/22 東京】北欧流ノーズワーク体験教室
DESCRIPTION:イベント名：北欧流ノーズワーク体験教室 \nイベントURL　https://www.instagram.com/ekoko.petcare\n開催日時：2024-04-22\n開催時間：10:00〜12：00\n開催場所：DIY STORE 三鷹 東京都三鷹市新川2-9-3\n参加費：2000円\n定員：3組\n参加条件\n初心者\n詳細\n日時:4月22日(月)\n1 、10時00分~10時45分\n2、 11時00分〜11時45分\n4月27日(土)\n1、 10時00分~10時45分\n2 、11時00分〜11時45分\n定員:各回3組(1組2頭以上の場合ご相談ください)\n参加費:2000 円/組(芳香蒸留水のプレゼント付)\n申込:QR を読み込み、メールでお申し込みください。\n定員に達し次第受付終了となります。\n※車でお越しの場合、近隣の時間貸駐車場をお使い下さい \n主催：e!ココ PET CARE(イーココペットケア)\n担当者名：高見未知子
URL:https://noseworksportsclub.jp/event/%e3%80%904-22-%e6%9d%b1%e4%ba%ac%e3%80%91%e5%8c%97%e6%ac%a7%e6%b5%81%e3%83%8e%e3%83%bc%e3%82%ba%e3%83%af%e3%83%bc%e3%82%af%e4%bd%93%e9%a8%93%e6%95%99%e5%ae%a4/
LOCATION:DIY STORE三鷹\, 東京都三鷹市新川2-9-3\, 日本
CATEGORIES:教室・レッスン
ATTACH;FMTTYPE=application/pdf:https://noseworksportsclub.jp/wp-content/uploads/2024/03/7a2800cbc0cb26cb05202af2915e0372.pdf
END:VEVENT
END:VCALENDAR