BEGIN:VCALENDAR
VERSION:2.0
PRODID:-//ノーズワークスポーツクラブ - ECPv6.15.20//NONSGML v1.0//EN
CALSCALE:GREGORIAN
METHOD:PUBLISH
X-ORIGINAL-URL:https://noseworksportsclub.jp
X-WR-CALDESC:ノーズワークスポーツクラブ のイベント
REFRESH-INTERVAL;VALUE=DURATION:PT1H
X-Robots-Tag:noindex
X-PUBLISHED-TTL:PT1H
BEGIN:VTIMEZONE
TZID:Asia/Tokyo
BEGIN:STANDARD
TZOFFSETFROM:+0900
TZOFFSETTO:+0900
TZNAME:JST
DTSTART:20220101T000000
END:STANDARD
END:VTIMEZONE
BEGIN:VEVENT
DTSTART;TZID=Asia/Tokyo:20230703T101500
DTEND;TZID=Asia/Tokyo:20230703T114500
DTSTAMP:20260426T012543
CREATED:20230423T170027Z
LAST-MODIFIED:20230714T144841Z
UID:3640-1688379300-1688384700@noseworksportsclub.jp
SUMMARY:【7/ 3 東京】ノーズワーク体験セミナーin 中目黒
DESCRIPTION:イベント名：ノーズワーク体験セミナー in 中目黒\nイベントURLhttp://www.scentline.jp/\n開催日時：2023-07-03\n開催時間：10:15〜11：45\n開催場所：Space Utility TOKYO  〒153-0061 東京都目黒区中目黒3-5-3\n開催場所URL：https://www.space-utility.com/access\n参加費：3回まで4\,500円（5\,000円）　4回以上リピーター 4\,000円\n定員：3組\n参加条件\n未経験者&初心者&経験者（小・中型犬限定）\n詳細\n今後の開催予定日：5/29（月）、7/3（月）\n初回参加の方は、芳香蒸留水プレゼント\n駐車場無し（目の前にパーキングメーターあり）\n最寄駅：東急東横線「中目黒」 \n主催：SCENT LINE\n担当者名：近藤奈緒子
URL:https://noseworksportsclub.jp/event/tribe_events-3640/
LOCATION:Space Utility Tokyo\, 中目黒3-5-3\, 目黒区\, 東京都\, 153-0061\, 日本
CATEGORIES:セミナー,教室・レッスン
ORGANIZER;CN="SCENT LINE(%E3%82%BB%E3%83%B3%E3%83%88%E3%83%A9%E3%82%A4%E3%83%B3)%EF%BC%9A%E8%BF%91%E8%97%A4":MAILTO:mail@scentline.jp
END:VEVENT
END:VCALENDAR