BEGIN:VCALENDAR
VERSION:2.0
PRODID:-//ノーズワークスポーツクラブ - ECPv6.15.20//NONSGML v1.0//EN
CALSCALE:GREGORIAN
METHOD:PUBLISH
X-ORIGINAL-URL:https://noseworksportsclub.jp
X-WR-CALDESC:ノーズワークスポーツクラブ のイベント
REFRESH-INTERVAL;VALUE=DURATION:PT1H
X-Robots-Tag:noindex
X-PUBLISHED-TTL:PT1H
BEGIN:VTIMEZONE
TZID:Asia/Tokyo
BEGIN:STANDARD
TZOFFSETFROM:+0900
TZOFFSETTO:+0900
TZNAME:JST
DTSTART:20220101T000000
END:STANDARD
END:VTIMEZONE
BEGIN:VEVENT
DTSTART;TZID=Asia/Tokyo:20230328T190000
DTEND;TZID=Asia/Tokyo:20230328T210000
DTSTAMP:20260426T054140
CREATED:20230301T000202Z
LAST-MODIFIED:20230303T131858Z
UID:3530-1680030000-1680037200@noseworksportsclub.jp
SUMMARY:【3/28 開催決定】スウェーデンノーズワークジャッジ、ピッレ・アンデション氏オンラインセミナー
DESCRIPTION:2023年もノーズワークスポーツクラブ（JNWSC）はスウェーデンノーズワーククラブ（SNWK）の方針とルールを基に、日本での競技会の普及・促進の為の活動をしていきます。少しずつではありますが、各地域で非公式競技会が開催されるようになり、ノーズワークプレーヤーが着実に増えてきていると感じています。 \nJNWSC主催の第３回ノーズワークセミナーは、スウェーデン・ノーズワーククラブの公認ノーズワーク審査員であり、公認インストラクターのピッレ氏に以下の内容をお話ししていただく予定です。 \n1）知っておきたいスウェーデンのノーズワークトレーニング サーチ中のボディランゲージの読み方、ビビリ犬のハンドリング　など \n2）ジャッジならではの視点　ピッレさんが語るノーズワークスポーツ 正解、不正解を告げるだけじゃない、ジャッジの仕事　～ハイドの設定・ジャッジとしての経験談～ \n\n\n\nノーズワークスポーツをもっと深く知りたい、スキルUPしたい方には必見のセミナーです。 ぜひ、この機会をお見逃しなく！ \n\n\n\n続き＆申し込みはこちら
URL:https://noseworksportsclub.jp/event/tribe_events-3530/
LOCATION:オンライン
CATEGORIES:オンライン
ATTACH;FMTTYPE=image/jpeg:https://noseworksportsclub.jp/wp-content/uploads/2023/02/330537830_1576324582883863_7122604183481679445_n-1.jpg
ORGANIZER;CN="JNWSC":MAILTO:info @ noseworksportsclub.jp
END:VEVENT
END:VCALENDAR