BEGIN:VCALENDAR
VERSION:2.0
PRODID:-//ノーズワークスポーツクラブ - ECPv6.15.20//NONSGML v1.0//EN
CALSCALE:GREGORIAN
METHOD:PUBLISH
X-WR-CALNAME:ノーズワークスポーツクラブ
X-ORIGINAL-URL:https://noseworksportsclub.jp
X-WR-CALDESC:ノーズワークスポーツクラブ のイベント
REFRESH-INTERVAL;VALUE=DURATION:PT1H
X-Robots-Tag:noindex
X-PUBLISHED-TTL:PT1H
BEGIN:VTIMEZONE
TZID:Asia/Tokyo
BEGIN:STANDARD
TZOFFSETFROM:+0900
TZOFFSETTO:+0900
TZNAME:JST
DTSTART:20210101T000000
END:STANDARD
END:VTIMEZONE
BEGIN:VEVENT
DTSTART;TZID=Asia/Tokyo:20221120T100000
DTEND;TZID=Asia/Tokyo:20221120T113000
DTSTAMP:20260426T124816
CREATED:20220814T010105Z
LAST-MODIFIED:20221123T012730Z
UID:2667-1668938400-1668943800@noseworksportsclub.jp
SUMMARY:【11/ 20東京】ノーズワーククラス（月１回開催）
DESCRIPTION:イベント名：ノーズワーククラス（月1回開催）\nイベントURLhttp://scentline.sblo.jp/\n開催日時：2022-11-20\n開催時間：10:00〜11：30\n開催場所：保谷ゴルフセンターレンタルスペース内　東京都西東京市保谷町５丁目１６−４\n開催場所URL：http://hoyagolf.com/\n参加費：5\,000円〜\n定員：5組\n参加条件\nなし\n詳細\nお申し込み、お問い合わせ　セントライン　近藤まで\nmail@scentline.jp \n申込項目：参加希望日、飼い主さんの名前、\nご住所、当日連絡先（携帯）、メールアドレス\n愛犬の名前、性別、年齢、犬種、体重、\nノーズワーク経験の有無\nその他（知りたいことなどあれば） \n主催：SCENT LINE（セントライン）\n担当者名：近藤
URL:https://noseworksportsclub.jp/event/tribe_events-2667/
LOCATION:保谷ゴルフセンター\, 保谷町５丁目１６−４\, 西東京市\, 東京都\, 202-0015
CATEGORIES:教室・レッスン
ATTACH;FMTTYPE=image/jpeg:https://noseworksportsclub.jp/wp-content/uploads/2022/08/20221011j.jpg
ORGANIZER;CN="SCENT LINE(%E3%82%BB%E3%83%B3%E3%83%88%E3%83%A9%E3%82%A4%E3%83%B3)%EF%BC%9A%E8%BF%91%E8%97%A4":MAILTO:mail@scentline.jp
END:VEVENT
END:VCALENDAR