BEGIN:VCALENDAR
VERSION:2.0
PRODID:-//ノーズワークスポーツクラブ - ECPv6.15.20//NONSGML v1.0//EN
CALSCALE:GREGORIAN
METHOD:PUBLISH
X-WR-CALNAME:ノーズワークスポーツクラブ
X-ORIGINAL-URL:https://noseworksportsclub.jp
X-WR-CALDESC:ノーズワークスポーツクラブ のイベント
REFRESH-INTERVAL;VALUE=DURATION:PT1H
X-Robots-Tag:noindex
X-PUBLISHED-TTL:PT1H
BEGIN:VTIMEZONE
TZID:Asia/Tokyo
BEGIN:STANDARD
TZOFFSETFROM:+0900
TZOFFSETTO:+0900
TZNAME:JST
DTSTART:20210101T000000
END:STANDARD
END:VTIMEZONE
BEGIN:VEVENT
DTSTART;TZID=Asia/Tokyo:20221106T100000
DTEND;TZID=Asia/Tokyo:20221106T160000
DTSTAMP:20260426T124738
CREATED:20220808T013033Z
LAST-MODIFIED:20221111T144317Z
UID:3041-1667728800-1667750400@noseworksportsclub.jp
SUMMARY:【11/6　横浜】第３回アーティスト＆カーペンターフェスタ
DESCRIPTION:イベント名：第３回アーティスト＆カーペンターフェスタ　－　ノーズワーク体験会を開催いたします！\nイベントURL　https://peraichi.com/landing_pages/view/owgfh\n開催日時：2022-11-06\n開催時間：10:00〜16：00\n開催場所：〒245-0065 神奈川県横浜市戸塚区東俣野町１２０７−３\n参加費：100円\n定員：10組\n参加条件\n特になし\n詳細\n1回目10時30分〜11時30分\n2回目12時30分〜13時30分\n3回目14時30分〜15時30分\n受付は各回の３０分前スタートです。\n各回先着１０組です。 \n主催：地域貢献ラボ横浜戸塚支部
URL:https://noseworksportsclub.jp/event/tribe_events-3041/
LOCATION:幸和建設工業株式会社\, 横浜市戸塚区東俣野1207-3\, 日本
CATEGORIES:イベント・体験会
ATTACH;FMTTYPE=image/jpeg:https://noseworksportsclub.jp/wp-content/uploads/2022/10/ff081209331a15e46e7550fc798d3e32.jpg
ORGANIZER;CN="JNWSC":MAILTO:info @ noseworksportsclub.jp
END:VEVENT
END:VCALENDAR