BEGIN:VCALENDAR
VERSION:2.0
PRODID:-//ノーズワークスポーツクラブ - ECPv6.15.20//NONSGML v1.0//EN
CALSCALE:GREGORIAN
METHOD:PUBLISH
X-WR-CALNAME:ノーズワークスポーツクラブ
X-ORIGINAL-URL:https://noseworksportsclub.jp
X-WR-CALDESC:ノーズワークスポーツクラブ のイベント
REFRESH-INTERVAL;VALUE=DURATION:PT1H
X-Robots-Tag:noindex
X-PUBLISHED-TTL:PT1H
BEGIN:VTIMEZONE
TZID:Asia/Tokyo
BEGIN:STANDARD
TZOFFSETFROM:+0900
TZOFFSETTO:+0900
TZNAME:JST
DTSTART:20240101T000000
END:STANDARD
END:VTIMEZONE
BEGIN:VEVENT
DTSTART;TZID=Asia/Tokyo:20250302T110000
DTEND;TZID=Asia/Tokyo:20250302T130000
DTSTAMP:20260422T163617
CREATED:20250117T133611Z
LAST-MODIFIED:20250117T133611Z
UID:7066-1740913200-1740920400@noseworksportsclub.jp
SUMMARY:【東京】におい認識テスト NW1 NW2 NW3
DESCRIPTION:
URL:https://noseworksportsclub.jp/event/%e3%80%90%e6%9d%b1%e4%ba%ac%e3%80%91%e3%81%ab%e3%81%8a%e3%81%84%e8%aa%8d%e8%ad%98%e3%83%86%e3%82%b9%e3%83%88-nw1-nw2-nw3-3/
CATEGORIES:におい認識テスト・競技会
END:VEVENT
BEGIN:VEVENT
DTSTART;TZID=Asia/Tokyo:20250309T100000
DTEND;TZID=Asia/Tokyo:20250309T123000
DTSTAMP:20260422T163617
CREATED:20250203T130909Z
LAST-MODIFIED:20250203T130909Z
UID:7178-1741514400-1741523400@noseworksportsclub.jp
SUMMARY:【東京】におい認識テスト NW1 NW2 NW3
DESCRIPTION:
URL:https://noseworksportsclub.jp/event/%e3%80%90%e6%9d%b1%e4%ba%ac%e3%80%91%e3%81%ab%e3%81%8a%e3%81%84%e8%aa%8d%e8%ad%98%e3%83%86%e3%82%b9%e3%83%88-nw1-nw2-nw3-4/
CATEGORIES:におい認識テスト・競技会
END:VEVENT
BEGIN:VEVENT
DTSTART;TZID=Asia/Tokyo:20250322T123000
DTEND;TZID=Asia/Tokyo:20250322T131500
DTSTAMP:20260422T163617
CREATED:20250323T070423Z
LAST-MODIFIED:20250323T070423Z
UID:7293-1742646600-1742649300@noseworksportsclub.jp
SUMMARY:【千葉】ノーズワーク体験「においの覚え方レッスン」＠野田
DESCRIPTION:
URL:https://noseworksportsclub.jp/event/%e3%80%90%e5%8d%83%e8%91%89%e3%80%91%e3%83%8e%e3%83%bc%e3%82%ba%e3%83%af%e3%83%bc%e3%82%af%e4%bd%93%e9%a8%93%e3%80%8c%e3%81%ab%e3%81%8a%e3%81%84%e3%81%ae%e8%a6%9a%e3%81%88%e6%96%b9%e3%83%ac%e3%83%83/
CATEGORIES:イベント・体験会
END:VEVENT
BEGIN:VEVENT
DTSTART;TZID=Asia/Tokyo:20250328T100000
DTEND;TZID=Asia/Tokyo:20250328T113000
DTSTAMP:20260422T163617
CREATED:20250228T092441Z
LAST-MODIFIED:20250228T092441Z
UID:7242-1743156000-1743161400@noseworksportsclub.jp
SUMMARY:【東京】におい認識テスト NW1 NW2
DESCRIPTION:
URL:https://noseworksportsclub.jp/event/%e3%80%90%e6%9d%b1%e4%ba%ac%e3%80%91%e3%81%ab%e3%81%8a%e3%81%84%e8%aa%8d%e8%ad%98%e3%83%86%e3%82%b9%e3%83%88-nw1-nw2-2/
CATEGORIES:におい認識テスト・競技会
END:VEVENT
END:VCALENDAR