BEGIN:VCALENDAR
VERSION:2.0
PRODID:-//ノーズワークスポーツクラブ - ECPv6.15.20//NONSGML v1.0//EN
CALSCALE:GREGORIAN
METHOD:PUBLISH
X-ORIGINAL-URL:https://noseworksportsclub.jp
X-WR-CALDESC:ノーズワークスポーツクラブ のイベント
REFRESH-INTERVAL;VALUE=DURATION:PT1H
X-Robots-Tag:noindex
X-PUBLISHED-TTL:PT1H
BEGIN:VTIMEZONE
TZID:Asia/Tokyo
BEGIN:STANDARD
TZOFFSETFROM:+0900
TZOFFSETTO:+0900
TZNAME:JST
DTSTART:20230101T000000
END:STANDARD
END:VTIMEZONE
BEGIN:VEVENT
DTSTART;TZID=Asia/Tokyo:20241207T100000
DTEND;TZID=Asia/Tokyo:20241207T160000
DTSTAMP:20260422T213358
CREATED:20241112T141521Z
LAST-MODIFIED:20241112T141521Z
UID:6843-1733565600-1733587200@noseworksportsclub.jp
SUMMARY:【東京】SippoFesta（しっぽフェスタ）2024冬　ノーズワークスポーツ体験会
DESCRIPTION:
URL:https://noseworksportsclub.jp/event/%e3%80%90%e6%9d%b1%e4%ba%ac%e3%80%91sippofesta%ef%bc%88%e3%81%97%e3%81%a3%e3%81%bd%e3%83%95%e3%82%a7%e3%82%b9%e3%82%bf%ef%bc%892024%e5%86%ac%e3%80%80%e3%83%8e%e3%83%bc%e3%82%ba%e3%83%af%e3%83%bc/
CATEGORIES:イベント・体験会
END:VEVENT
BEGIN:VEVENT
DTSTART;TZID=Asia/Tokyo:20241208T100000
DTEND;TZID=Asia/Tokyo:20241208T160000
DTSTAMP:20260422T213358
CREATED:20241112T141636Z
LAST-MODIFIED:20241112T141636Z
UID:6845-1733652000-1733673600@noseworksportsclub.jp
SUMMARY:【東京】SippoFesta（しっぽフェスタ）2024冬　ノーズワークスポーツ体験会
DESCRIPTION:
URL:https://noseworksportsclub.jp/event/%e3%80%90%e6%9d%b1%e4%ba%ac%e3%80%91sippofesta%ef%bc%88%e3%81%97%e3%81%a3%e3%81%bd%e3%83%95%e3%82%a7%e3%82%b9%e3%82%bf%ef%bc%892024%e5%86%ac%e3%80%80%e3%83%8e%e3%83%bc%e3%82%ba%e3%83%af%e3%83%bc-2/
CATEGORIES:イベント・体験会
END:VEVENT
BEGIN:VEVENT
DTSTART;TZID=Asia/Tokyo:20241216T190000
DTEND;TZID=Asia/Tokyo:20241216T210000
DTSTAMP:20260422T213358
CREATED:20241020T005645Z
LAST-MODIFIED:20241020T005645Z
UID:6761-1734375600-1734382800@noseworksportsclub.jp
SUMMARY:ピッレ・アンデション氏による『迷子ペット捜索犬（IDドッグ）』Zoomウェビナー
DESCRIPTION:
URL:https://noseworksportsclub.jp/event/%e3%83%94%e3%83%83%e3%83%ac%e3%83%bb%e3%82%a2%e3%83%b3%e3%83%87%e3%82%b7%e3%83%a7%e3%83%b3%e6%b0%8f%e3%81%ab%e3%82%88%e3%82%8b%e3%80%8e%e8%bf%b7%e5%ad%90%e3%83%9a%e3%83%83%e3%83%88%e6%8d%9c%e7%b4%a2/
CATEGORIES:セミナー
END:VEVENT
BEGIN:VEVENT
DTSTART;TZID=Asia/Tokyo:20241221T090000
DTEND;TZID=Asia/Tokyo:20241221T130000
DTSTAMP:20260422T213358
CREATED:20241014T120318Z
LAST-MODIFIED:20241014T120318Z
UID:6697-1734771600-1734786000@noseworksportsclub.jp
SUMMARY:【千葉】ノーズワーク(NW1）非公式競技会 Sniff&Go＋練習会 in Chiba
DESCRIPTION:
URL:https://noseworksportsclub.jp/event/%e3%80%90%e5%8d%83%e8%91%89%e3%80%91%e3%83%8e%e3%83%bc%e3%82%ba%e3%83%af%e3%83%bc%e3%82%afnw1%ef%bc%89%e9%9d%9e%e5%85%ac%e5%bc%8f%e7%ab%b6%e6%8a%80%e4%bc%9a-sniffgo%ef%bc%8b%e7%b7%b4%e7%bf%92/
CATEGORIES:模擬競技会・ファンマッチ
END:VEVENT
END:VCALENDAR