BEGIN:VCALENDAR
VERSION:2.0
PRODID:-//ノーズワークスポーツクラブ - ECPv6.15.20//NONSGML v1.0//EN
CALSCALE:GREGORIAN
METHOD:PUBLISH
X-ORIGINAL-URL:https://noseworksportsclub.jp
X-WR-CALDESC:ノーズワークスポーツクラブ のイベント
REFRESH-INTERVAL;VALUE=DURATION:PT1H
X-Robots-Tag:noindex
X-PUBLISHED-TTL:PT1H
BEGIN:VTIMEZONE
TZID:Asia/Tokyo
BEGIN:STANDARD
TZOFFSETFROM:+0900
TZOFFSETTO:+0900
TZNAME:JST
DTSTART:20230101T000000
END:STANDARD
END:VTIMEZONE
BEGIN:VEVENT
DTSTART;TZID=Asia/Tokyo:20240415T210000
DTEND;TZID=Asia/Tokyo:20240415T220000
DTSTAMP:20260423T131559
CREATED:20240404T141921Z
LAST-MODIFIED:20240404T151743Z
UID:5038-1713214800-1713218400@noseworksportsclub.jp
SUMMARY:【4/15 Clubhouse】ノーズワーク座談会
DESCRIPTION:ノーズワークスポーツクラブノーズワークスポーツクラブ（Japan Nosework Sports Club）www.clubhouse.com\n  \n 
URL:https://noseworksportsclub.jp/event/%e3%80%904-15-%e3%82%af%e3%83%a9%e3%83%96%e3%83%8f%e3%82%a6%e3%82%b9%e3%80%91/
CATEGORIES:オンライン
END:VEVENT
BEGIN:VEVENT
DTSTART;TZID=Asia/Tokyo:20240421T100000
DTEND;TZID=Asia/Tokyo:20240421T153000
DTSTAMP:20260423T131559
CREATED:20240218T022428Z
LAST-MODIFIED:20240218T022428Z
UID:4851-1713693600-1713713400@noseworksportsclub.jp
SUMMARY:【4/21 東京】におい認識テスト
DESCRIPTION:イベント名：におい認識テスト\nイベントURL https://docs.google.com/forms/d/e/1FAIpQLSduqkNjMcJi_yD9MPaK-jF5Cjdf4l4p7FvxGnWC67p93EcHEA/viewform\n開催日時：2024-04-21\n開催時間：10:00〜15：30\n開催場所：〒202-0015 東京都西東京市保谷町５丁目１６−４\n開催場所URL：http://hoyagolf.com/%e3%83%ac%e3%83%b3%e3%82%bf%e3%83%ab%e3%82%b9%e3%83%9a%e3%83%bc%e3%82%b9/\n参加費：5\,500円～\n定員：10組\n参加条件\nNW1＋NW2＋NW3\n詳細\nにおい認識テスト：NW1、NW2、NW3\n定員：10組　屋外開催 \nテスト終了後、競技会体験教室　4\,000円/組\nテスト&競技会体験の両方参加の方は割引あり \n主催：SCENT LINE\n担当者名：近藤奈緒子
URL:https://noseworksportsclub.jp/event/%e3%80%904-21-%e6%9d%b1%e4%ba%ac%e3%80%91%e3%81%ab%e3%81%8a%e3%81%84%e8%aa%8d%e8%ad%98%e3%83%86%e3%82%b9%e3%83%88/
LOCATION:保谷ゴルフセンター\, 保谷町５丁目１６−４\, 西東京市\, 東京都\, 202-0015
CATEGORIES:におい認識テスト・競技会
ATTACH;FMTTYPE=image/jpeg:https://noseworksportsclub.jp/wp-content/uploads/2024/02/aa56778d4b08f6321c10252d002e500c.jpg
ORGANIZER;CN="SCENT LINE(%E3%82%BB%E3%83%B3%E3%83%88%E3%83%A9%E3%82%A4%E3%83%B3)%EF%BC%9A%E8%BF%91%E8%97%A4":MAILTO:mail@scentline.jp
END:VEVENT
BEGIN:VEVENT
DTSTART;TZID=Asia/Tokyo:20240422T100000
DTEND;TZID=Asia/Tokyo:20240422T114500
DTSTAMP:20260423T131559
CREATED:20240326T134651Z
LAST-MODIFIED:20240326T135545Z
UID:4970-1713780000-1713786300@noseworksportsclub.jp
SUMMARY:【4/22 東京】北欧流ノーズワーク体験教室
DESCRIPTION:イベント名：北欧流ノーズワーク体験教室 \nイベントURL　https://www.instagram.com/ekoko.petcare\n開催日時：2024-04-22\n開催時間：10:00〜12：00\n開催場所：DIY STORE 三鷹 東京都三鷹市新川2-9-3\n参加費：2000円\n定員：3組\n参加条件\n初心者\n詳細\n日時:4月22日(月)\n1 、10時00分~10時45分\n2、 11時00分〜11時45分\n4月27日(土)\n1、 10時00分~10時45分\n2 、11時00分〜11時45分\n定員:各回3組(1組2頭以上の場合ご相談ください)\n参加費:2000 円/組(芳香蒸留水のプレゼント付)\n申込:QR を読み込み、メールでお申し込みください。\n定員に達し次第受付終了となります。\n※車でお越しの場合、近隣の時間貸駐車場をお使い下さい \n主催：e!ココ PET CARE(イーココペットケア)\n担当者名：高見未知子
URL:https://noseworksportsclub.jp/event/%e3%80%904-22-%e6%9d%b1%e4%ba%ac%e3%80%91%e5%8c%97%e6%ac%a7%e6%b5%81%e3%83%8e%e3%83%bc%e3%82%ba%e3%83%af%e3%83%bc%e3%82%af%e4%bd%93%e9%a8%93%e6%95%99%e5%ae%a4/
LOCATION:DIY STORE三鷹\, 東京都三鷹市新川2-9-3\, 日本
CATEGORIES:教室・レッスン
ATTACH;FMTTYPE=application/pdf:https://noseworksportsclub.jp/wp-content/uploads/2024/03/7a2800cbc0cb26cb05202af2915e0372.pdf
END:VEVENT
BEGIN:VEVENT
DTSTART;TZID=Asia/Tokyo:20240427T100000
DTEND;TZID=Asia/Tokyo:20240427T120000
DTSTAMP:20260423T131559
CREATED:20240326T135328Z
LAST-MODIFIED:20240326T135514Z
UID:4975-1714212000-1714219200@noseworksportsclub.jp
SUMMARY:【4/27 東京】北欧流ノーズワーク体験教室
DESCRIPTION:イベント名：北欧流ノーズワーク体験教室 \nイベントURL　https://www.instagram.com/ekoko.petcare\n開催日時：2024-04-27\n開催時間：10:00〜12：00\n開催場所：DIY STORE 三鷹 東京都三鷹市新川2-9-3\n開催場所URL：http://diystoremitaka.com\n参加費：2000円\n定員：3組\n参加条件\n初心者\n詳細\n4月27日(土)\n1 、10時00分~10時45分\n2 、11時00分〜11時45分\n定員:各回3組(1組2頭以上の場合ご相談ください)\n参加費:2000 円/組(芳香蒸留水のプレゼント付)\n申込:QR を読み込み、メールでお申し込みください。\n定員に達し次第受付終了となります。\n※車でお越しの場合、近隣の時間貸駐車場をお使い下さい \n主催：e!ココ PET CARE(イーココペットケア)\n担当者名：高見未知子
URL:https://noseworksportsclub.jp/event/%e3%80%904-27-%e6%9d%b1%e4%ba%ac%e3%80%91%e5%8c%97%e6%ac%a7%e6%b5%81%e3%83%8e%e3%83%bc%e3%82%ba%e3%83%af%e3%83%bc%e3%82%af%e4%bd%93%e9%a8%93%e6%95%99%e5%ae%a4/
LOCATION:DIY STORE三鷹\, 東京都三鷹市新川2-9-3\, 日本
CATEGORIES:教室・レッスン
ATTACH;FMTTYPE=application/pdf:https://noseworksportsclub.jp/wp-content/uploads/2024/03/7a2800cbc0cb26cb05202af2915e0372-1.pdf
END:VEVENT
BEGIN:VEVENT
DTSTART;TZID=Asia/Tokyo:20240427T100000
DTEND;TZID=Asia/Tokyo:20240427T130000
DTSTAMP:20260423T131559
CREATED:20240404T154249Z
LAST-MODIFIED:20240408T135257Z
UID:5059-1714212000-1714222800@noseworksportsclub.jp
SUMMARY:【4/27 東京】北欧流ノーズワーク練習会
DESCRIPTION:イベント名：練習会\n開催日時：2024-04-27\n開催時間：10:00〜13：00\n開催場所：西東京市東伏見\n開催場所URL：\n参加費：2\,000円 \n主催：ドッグジョイカンパニー\n担当者名：藤野芽久美
URL:https://noseworksportsclub.jp/event/%e3%80%904-27-%e6%9d%b1%e4%ba%ac%e3%80%91%e5%8c%97%e6%ac%a7%e6%b5%81%e3%83%8e%e3%83%bc%e3%82%ba%e3%83%af%e3%83%bc%e3%82%af%e7%b7%b4%e7%bf%92%e4%bc%9a/
CATEGORIES:練習会
END:VEVENT
BEGIN:VEVENT
DTSTART;TZID=Asia/Tokyo:20240429T210000
DTEND;TZID=Asia/Tokyo:20240429T220000
DTSTAMP:20260423T131559
CREATED:20240404T144558Z
LAST-MODIFIED:20240404T151321Z
UID:5042-1714424400-1714428000@noseworksportsclub.jp
SUMMARY:【4/29 Clubhouse】ノーズワーク座談会
DESCRIPTION:ノーズワークスポーツクラブノーズワークスポーツクラブ（Japan Nosework Sports Club）www.clubhouse.com
URL:https://noseworksportsclub.jp/event/%e3%80%904-29-%e3%82%aa%e3%83%b3%e3%83%a9%e3%82%a4%e3%83%b3%e3%80%91%e3%82%af%e3%83%a9%e3%83%96%e3%83%8f%e3%82%a6%e3%82%b9/
CATEGORIES:オンライン
END:VEVENT
END:VCALENDAR