BEGIN:VCALENDAR
VERSION:2.0
PRODID:-//ノーズワークスポーツクラブ - ECPv6.15.20//NONSGML v1.0//EN
CALSCALE:GREGORIAN
METHOD:PUBLISH
X-WR-CALNAME:ノーズワークスポーツクラブ
X-ORIGINAL-URL:https://noseworksportsclub.jp
X-WR-CALDESC:ノーズワークスポーツクラブ のイベント
REFRESH-INTERVAL;VALUE=DURATION:PT1H
X-Robots-Tag:noindex
X-PUBLISHED-TTL:PT1H
BEGIN:VTIMEZONE
TZID:Asia/Tokyo
BEGIN:STANDARD
TZOFFSETFROM:+0900
TZOFFSETTO:+0900
TZNAME:JST
DTSTART:20220101T000000
END:STANDARD
END:VTIMEZONE
BEGIN:VEVENT
DTSTART;TZID=Asia/Tokyo:20231002T180000
DTEND;TZID=Asia/Tokyo:20240225T180000
DTSTAMP:20260423T180943
CREATED:20230824T030212Z
LAST-MODIFIED:20230824T030321Z
UID:3881-1696269600-1708884000@noseworksportsclub.jp
SUMMARY:【10/2スタート】JNWSC公認ノーズワークインストラクターコース　概要＆お申込み　
DESCRIPTION:
URL:https://noseworksportsclub.jp/event/tribe_events-3881/
LOCATION:静岡県伊豆市\, 静岡県伊豆市\, 伊豆市\, 静岡県\, 日本
CATEGORIES:セミナー
ATTACH;FMTTYPE=image/jpeg:https://noseworksportsclub.jp/wp-content/uploads/2023/07/IMG_1056.jpg
ORGANIZER;CN="JNWSC":MAILTO:info @ noseworksportsclub.jp
END:VEVENT
BEGIN:VEVENT
DTSTART;TZID=Asia/Tokyo:20231213T143000
DTEND;TZID=Asia/Tokyo:20231213T153000
DTSTAMP:20260423T180943
CREATED:20231117T140045Z
LAST-MODIFIED:20231201T125133Z
UID:4106-1702477800-1702481400@noseworksportsclub.jp
SUMMARY:【12/13 岐阜】におい認識テスト
DESCRIPTION:イベント名：におい認識テスト\n開催日時：2023-12-13\n開催時間：14:30〜15：30\n開催場所：岐阜市岩地2-4-3 ONELife\n参加費：6000円\n定員：4組\n参加条件\nNW1\n詳細\nローリエのにおいを認識していること。\n受講料5500円＋登録料500円 \n主催：ONELife\n担当者名：島田由紀子\n問い合わせ先Tel：058-214-3442
URL:https://noseworksportsclub.jp/event/%e3%80%9012-20-%e5%b2%90%e9%98%9c%e3%80%91%e3%81%ab%e3%81%8a%e3%81%84%e8%aa%8d%e8%ad%98%e3%83%86%e3%82%b9%e3%83%88/
LOCATION:ONE Life\, 岩地2-4-3\, 岐阜市\, 岐阜県\, 5008225\, 日本
CATEGORIES:におい認識テスト・競技会
ORGANIZER;CN="ONE Life":MAILTO:contact@tomo-iki.jp
END:VEVENT
BEGIN:VEVENT
DTSTART;TZID=Asia/Tokyo:20231214T101500
DTEND;TZID=Asia/Tokyo:20231214T114500
DTSTAMP:20260423T180943
CREATED:20230630T151233Z
LAST-MODIFIED:20230714T151255Z
UID:3770-1702548900-1702554300@noseworksportsclub.jp
SUMMARY:【12/ 14 東京】ノーズワーク体験セミナーin 中目黒
DESCRIPTION:イベント名：ノーズワーク体験セミナー in 中目黒\nイベントURLhttps://docs.google.com/forms/d/e/1FAIpQLSduqkNjMcJi_yD9MPaK-jF5Cjdf4l4p7FvxGnWC67p93EcHEA/viewform\n開催日時：2023-12-14\n開催時間：10:15〜11：45\n開催場所：Space Utility Tokyo　〒153-0061 東京都目黒区中目黒3-5-3　中目黒駅を出て山手通りを右へ。約550mあたりです。　\n開催場所URL：https://www.space-utility.com/access\n参加費：3回まで4\,500円（5\,000円）　4回以上リピーター 4\,000円\n定員：3組\n参加条件\n未経験者&初心者&経験者（小・中型犬限定）\n詳細\n2023年の開催日程\n8/7（月）、9/20（水）、10/30（月）、11/20（月）、12/14（木） \n駐車場無し（近隣にパーキングメーターあり） \n内容：未経験者～経験者まで個別レクチャー\n（未経験者）ノーズワーク体験　※初回限定スターターキット付き\n（２回目以降の方）基礎とターゲット臭でのサーチ練習\n参加費：前払い 4\,500円　　当日払い 5\,000円　\n４回以上リピーター　500円 割引適用　 \n主催：SCENT LINE\n担当者名：近藤奈緒子
URL:https://noseworksportsclub.jp/event/tribe_events-3770/
LOCATION:Space Utility Tokyo\, 中目黒3-5-3\, 目黒区\, 東京都\, 153-0061\, 日本
CATEGORIES:セミナー,教室・レッスン
ORGANIZER;CN="SCENT LINE(%E3%82%BB%E3%83%B3%E3%83%88%E3%83%A9%E3%82%A4%E3%83%B3)%EF%BC%9A%E8%BF%91%E8%97%A4":MAILTO:mail@scentline.jp
END:VEVENT
END:VCALENDAR