BEGIN:VCALENDAR
VERSION:2.0
PRODID:-//ノーズワークスポーツクラブ - ECPv6.15.20//NONSGML v1.0//EN
CALSCALE:GREGORIAN
METHOD:PUBLISH
X-WR-CALNAME:ノーズワークスポーツクラブ
X-ORIGINAL-URL:https://noseworksportsclub.jp
X-WR-CALDESC:ノーズワークスポーツクラブ のイベント
REFRESH-INTERVAL;VALUE=DURATION:PT1H
X-Robots-Tag:noindex
X-PUBLISHED-TTL:PT1H
BEGIN:VTIMEZONE
TZID:Asia/Tokyo
BEGIN:STANDARD
TZOFFSETFROM:+0900
TZOFFSETTO:+0900
TZNAME:JST
DTSTART:20220101T000000
END:STANDARD
END:VTIMEZONE
BEGIN:VEVENT
DTSTART;TZID=Asia/Tokyo:20230920T101500
DTEND;TZID=Asia/Tokyo:20230920T114500
DTSTAMP:20260425T211934
CREATED:20230531T155451Z
LAST-MODIFIED:20230919T151957Z
UID:3761-1695204900-1695210300@noseworksportsclub.jp
SUMMARY:【9/20 東京】ノーズワーク体験セミナー in 中目黒
DESCRIPTION:イベント名：ノーズワーク体験セミナー in 中目黒\nイベントURLhttps://docs.google.com/forms/d/e/1FAIpQLSduqkNjMcJi_yD9MPaK-jF5Cjdf4l4p7FvxGnWC67p93EcHEA/viewform\n開催日時：2023-09-20\n開催時間：10:15〜11：45\n開催場所：Space UtilityTokyo　〒153-0061 東京都目黒区中目黒3-5-3　中目黒駅を出て山手通りを右へ。約550mあたりです。　\n開催場所URL：https://www.space-utility.com/access\n参加費：3回まで4\,500円（5\,000円）　4回以上リピーター 4\,000円\n定員：3組\n参加条件\n未経験者&初心者&経験者（小・中型犬限定）\n詳細\n2023年の開催日程\n8/7（月）、9/20（水）、10/30（月）、11/20（月）、12/14（木） \n駐車場無し（近隣にパーキングメーターあり） \n内容：未経験者～経験者まで個別レクチャー\n（未経験者）ノーズワーク体験　※初回限定スターターキット付き\n（２回目以降の方）基礎とターゲット臭でのサーチ練習\n参加費：前払い 4\,500円　　当日払い 5\,000円　\n４回以上リピーター　500円 割引適用　 \n主催：SCENT LINE\n担当者名：近藤奈緒子
URL:https://noseworksportsclub.jp/event/tribe_events-3761/
LOCATION:Space Utility Tokyo\, 中目黒3-5-3\, 目黒区\, 東京都\, 153-0061\, 日本
CATEGORIES:セミナー,教室・レッスン
ORGANIZER;CN="SCENT LINE(%E3%82%BB%E3%83%B3%E3%83%88%E3%83%A9%E3%82%A4%E3%83%B3)%EF%BC%9A%E8%BF%91%E8%97%A4":MAILTO:mail@scentline.jp
END:VEVENT
BEGIN:VEVENT
DTSTART;TZID=Asia/Tokyo:20230930T110000
DTEND;TZID=Asia/Tokyo:20230930T140000
DTSTAMP:20260425T211934
CREATED:20230725T143211Z
LAST-MODIFIED:20230825T143646Z
UID:3890-1696071600-1696082400@noseworksportsclub.jp
SUMMARY:【9/30 東京】におい認識テスト
DESCRIPTION:イベント名：におい認識テスト\nイベントURL　http://www.scentline.jp/\n開催日時：2023-09-30\n開催時間：11:00〜14：00\n開催場所：日本基督教団 吉祥寺教会　〒180-0004 東京都武蔵野市吉祥寺本町２丁目１４−１９\n開催場所URL：http://www.kichijojichurch.jp/akusesu/akusesu.html\n参加費：5\,000円\n定員：12組\n参加条件\nNW1+NW2+NW3\n詳細\n見学のみ不可。ただし、見学を兼ねたスタッフとして参加はOK。\n駐車場なし。近隣コインパーキングをご利用ください。\nNW1　受付11時00分から\nNW2&3　受付12時30分から \n主催：SCENT LINE\n担当者名：近藤奈緒子
URL:https://noseworksportsclub.jp/event/tribe_events-3890/
LOCATION:日本基督教団吉祥寺教会\, 東京都武蔵野市吉祥寺本町2-14-19\, 1800004\, 日本
CATEGORIES:におい認識テスト・競技会
ORGANIZER;CN="SCENT LINE(%E3%82%BB%E3%83%B3%E3%83%88%E3%83%A9%E3%82%A4%E3%83%B3)%EF%BC%9A%E8%BF%91%E8%97%A4":MAILTO:mail@scentline.jp
END:VEVENT
BEGIN:VEVENT
DTSTART;TZID=Asia/Tokyo:20230930T110000
DTEND;TZID=Asia/Tokyo:20230930T170000
DTSTAMP:20260425T211934
CREATED:20230824T025559Z
LAST-MODIFIED:20230824T030413Z
UID:3873-1696071600-1696093200@noseworksportsclub.jp
SUMMARY:＜9/30 ＞犬と人の行動と学習の最前線に迫る-人と動物の共生サミット2023-
DESCRIPTION:
URL:https://noseworksportsclub.jp/event/tribe_events-3873/
LOCATION:岐阜県図書館\, 岐阜県岐阜市宇佐4-2-1\, 岐阜市\, 岐阜県\, 500-8368\, 日本
CATEGORIES:セミナー
ATTACH;FMTTYPE=image/jpeg:https://noseworksportsclub.jp/wp-content/uploads/2023/08/359713443_789531312963829_585134849047234863_n-e1692625146911.jpg
ORGANIZER;CN="%E4%BA%BA%E3%81%A8%E5%8B%95%E7%89%A9%E3%81%AE%E5%85%B1%E7%94%9F%E3%82%BB%E3%83%B3%E3%82%BF%E3%83%BC":MAILTO:info@tomo-iki.jp
END:VEVENT
END:VCALENDAR