BEGIN:VCALENDAR
VERSION:2.0
PRODID:-//ノーズワークスポーツクラブ - ECPv6.15.20//NONSGML v1.0//EN
CALSCALE:GREGORIAN
METHOD:PUBLISH
X-WR-CALNAME:ノーズワークスポーツクラブ
X-ORIGINAL-URL:https://noseworksportsclub.jp
X-WR-CALDESC:ノーズワークスポーツクラブ のイベント
REFRESH-INTERVAL;VALUE=DURATION:PT1H
X-Robots-Tag:noindex
X-PUBLISHED-TTL:PT1H
BEGIN:VTIMEZONE
TZID:Asia/Tokyo
BEGIN:STANDARD
TZOFFSETFROM:+0900
TZOFFSETTO:+0900
TZNAME:JST
DTSTART:20220101T000000
END:STANDARD
END:VTIMEZONE
BEGIN:VEVENT
DTSTART;TZID=Asia/Tokyo:20230807T101500
DTEND;TZID=Asia/Tokyo:20230807T114500
DTSTAMP:20260425T224042
CREATED:20230613T161525Z
LAST-MODIFIED:20230814T162726Z
UID:3758-1691403300-1691408700@noseworksportsclub.jp
SUMMARY:【8/ 7 東京】ノーズワーク体験セミナーin 中目黒
DESCRIPTION:イベント名：ノーズワーク体験セミナー in 中目黒\nイベントURLhttps://docs.google.com/forms/d/e/1FAIpQLSduqkNjMcJi_yD9MPaK-jF5Cjdf4l4p7FvxGnWC67p93EcHEA/viewform\n開催日時：2023-08-07\n開催時間：10:15〜11：45\n開催場所：Space UtilityTokyo　〒153-0061 東京都目黒区中目黒3-5-3　中目黒駅を出て山手通りを右へ。約550mあたりです。　\n開催場所URL：https://www.space-utility.com/access\n参加費：3回まで4\,500円（5\,000円）　4回以上リピーター 4\,000円\n定員：3組\n参加条件\n未経験者&初心者&経験者（小・中型犬限定）\n詳細\n2023年の開催日程\n8/7（月）、9/20（水）、10/30（月）、11/20（月）、12/14（木） \n駐車場無し（近隣にパーキングメーターあり） \n内容：未経験者～経験者まで個別レクチャー\n（未経験者）ノーズワーク体験　※初回限定スターターキット付き\n（２回目以降の方）基礎とターゲット臭でのサーチ練習\n参加費：前払い 4\,500円　　当日払い 5\,000円　\n４回以上リピーター　500円 割引適用　 \n主催：SCENT LINE\n担当者名：近藤奈緒子
URL:https://noseworksportsclub.jp/event/tribe_events-3758/
LOCATION:Space Utility Tokyo\, 中目黒3-5-3\, 目黒区\, 東京都\, 153-0061\, 日本
CATEGORIES:セミナー,教室・レッスン
ORGANIZER;CN="SCENT LINE(%E3%82%BB%E3%83%B3%E3%83%88%E3%83%A9%E3%82%A4%E3%83%B3)%EF%BC%9A%E8%BF%91%E8%97%A4":MAILTO:mail@scentline.jp
END:VEVENT
BEGIN:VEVENT
DTSTART;TZID=Asia/Tokyo:20230823T200000
DTEND;TZID=Asia/Tokyo:20230823T220000
DTSTAMP:20260425T224042
CREATED:20230620T144428Z
LAST-MODIFIED:20230824T133202Z
UID:3806-1692820800-1692828000@noseworksportsclub.jp
SUMMARY:【8月23日(水)開催決定！ピッレ氏オンラインセミナー】
DESCRIPTION:イベント名：ノーズワークと自己受容感覚（ボディコントロール）の強化\nイベントURLhttps://noseworksportsclub.jp/2023/07/05/post-3774/\n開催日時：2023-08-23\n開催時間：20:00〜22：00\n開催場所：オンライン(Zoom）\n開催場所URL：https://docs.google.com/forms/d/e/1FAIpQLScafNrK0uP1312VlZD8lO-4nh4Ez8F4TJjky26KD9gTPbr2Kg/viewform\n参加費：8\,000円\n定員：上限なし\n参加条件\n未経験者から経験者まで\n詳細\n8月23日(水)開催決定！ピッレ氏オンラインセミナー\n「ノーズワークと自己受容感覚（ボディコントロール）の強化」\n【講師】ピッレ(ピルコ）・アンデション\n【コーディネート＆通訳】藤田りか子 \n昨年度、オンラインセミナーを開催し、大好評でしたスウェーデンノーズワークジャッジのピッレ・アンデション氏の第２弾オンラインセミナーの開催が決定いたしました！👏\nピッレ氏には今後、日本に来日しインストラクターコースや公式競技会にも関わっていただく予定となっています。\nノーズワーク以外にも🐶犬に関わる様々な知識・経験が豊富なピッレ氏に、今回のセミナーでは「自己受容感覚」にも着目したお話をしていただきます。 \n【セミナー内容】（文・藤田りか子氏）　\n自己受容感覚とはボディコントロールのことです。\n犬の体は、体が受容した「情報」をまず脳に伝えます。\nその後、脳はその情報を処理して何をすべきか体に指令を出します。\nそれを犬が経験を通して感覚的に知覚できないと脳には必要な情報が行き渡らず、うまく体をコントロールすることができません。\n結果、なにかと注意深い犬になってしまいます。脳に「同じようなことを以前にした」という記憶が存在しないからです。しかし、難しい足場でどうするべきか一度習得すると、脳がその情報をたやすく処理してくれるので、スムーズにサーチを続けることできます。 \nまずはボディコントロールを鍛錬、その後、ノーズワークをやる。これらのエクササイズは並行して行うと良いでしょう。\nこうしてより自信をもった、難しい足場でも平気でサーチができる犬になってくれます。\n特に上のクラスに進むほど難しい足場や、滑りやすい床がサーチエリアにでてくるようになります。\nですから、ぜひともみなさんにまずはこのボディコントロールについて深い知識を得ていただければと思います。 \n*** \nノーズワークスポーツを通じて犬ともっと楽しく暮らしたい、スキルUPしたい方には必見のセミナーです。\n怖がりわんちゃんの飼い主さんにも今後の取り組みのヒントが！\nぜひ、この機会をお見逃しなく！ \n日時: 8月23日（水）20時～22時 \n場所: ZOOMによるオンラインセミナー\n　　💠２週間の見逃し配信あり \n定員: 50名 \n申し込みは以下のフォームより\nhttps://docs.google.com/forms/d/e/1FAIpQLScafNrK0uP1312VlZD8lO-4nh4Ez8F4TJjky26KD9gTPbr2Kg/viewform
URL:https://noseworksportsclub.jp/event/tribe_events-3806/
LOCATION:Zoom
CATEGORIES:オンライン,セミナー
ATTACH;FMTTYPE=image/jpeg:https://noseworksportsclub.jp/wp-content/uploads/2023/07/57604a785a6bb31564de06513e4def06.jpeg
ORGANIZER;CN="JNWSC":MAILTO:info @ noseworksportsclub.jp
END:VEVENT
BEGIN:VEVENT
DTSTART;TZID=Asia/Tokyo:20230830T120000
DTEND;TZID=Asia/Tokyo:20230830T150000
DTSTAMP:20260425T224043
CREATED:20230701T144714Z
LAST-MODIFIED:20230720T145109Z
UID:3810-1693396800-1693407600@noseworksportsclub.jp
SUMMARY:【8/30 横浜】ノーズワーク教室 in 戸塚
DESCRIPTION:イベント名：ノーズワーク教室 in 戸塚\nイベントURL　http://scentline.sblo.jp/article/190458006.html\n開催日時：2023-08-30\n開催時間：12:00〜15：00\n開催場所：「幸和建設工業（株）]神奈川県横浜市戸塚区東俣野町1207-3\n開催場所URL：https://www.kowa-gp.co.jp/info\n参加費：8\,000円\n定員：2組\n参加条件\n未経験者から経験者まで\n詳細\n無料駐車場あり、無料ドッグランあり。\n会場は２階にある室内スペースとなります。\n大型犬もOK。\n２組までのプライベートクラスです。\nお友達同士でのご参加もどうぞ。 \n12時00分～13時15分　 1組or2組　　\n13時30分～14時45分　 1組or2組　　 \n参加費：当日払い　1組8\,000円　　/ 2組 14\,000円 \n主催：SCENT LINE\n担当者名：近藤奈緒子
URL:https://noseworksportsclub.jp/event/tribe_events-3810/
LOCATION:幸和建設工業株式会社\, 横浜市戸塚区東俣野1207-3\, 日本
CATEGORIES:セミナー,教室・レッスン
ATTACH;FMTTYPE=image/jpeg:https://noseworksportsclub.jp/wp-content/uploads/2023/07/6d6c24989c01c0986967512fd9be29d8.jpg
ORGANIZER;CN="SCENT LINE(%E3%82%BB%E3%83%B3%E3%83%88%E3%83%A9%E3%82%A4%E3%83%B3)%EF%BC%9A%E8%BF%91%E8%97%A4":MAILTO:mail@scentline.jp
END:VEVENT
END:VCALENDAR