BEGIN:VCALENDAR
VERSION:2.0
PRODID:-//ノーズワークスポーツクラブ - ECPv6.15.20//NONSGML v1.0//EN
CALSCALE:GREGORIAN
METHOD:PUBLISH
X-WR-CALNAME:ノーズワークスポーツクラブ
X-ORIGINAL-URL:https://noseworksportsclub.jp
X-WR-CALDESC:ノーズワークスポーツクラブ のイベント
REFRESH-INTERVAL;VALUE=DURATION:PT1H
X-Robots-Tag:noindex
X-PUBLISHED-TTL:PT1H
BEGIN:VTIMEZONE
TZID:Asia/Tokyo
BEGIN:STANDARD
TZOFFSETFROM:+0900
TZOFFSETTO:+0900
TZNAME:JST
DTSTART:20210101T000000
END:STANDARD
END:VTIMEZONE
BEGIN:VEVENT
DTSTART;TZID=Asia/Tokyo:20221202T083000
DTEND;TZID=Asia/Tokyo:20221202T164500
DTSTAMP:20260426T095733
CREATED:20220827T200031Z
LAST-MODIFIED:20221203T233327Z
UID:2695-1669969800-1669999500@noseworksportsclub.jp
SUMMARY:【12/2 山梨】個人レッスン・グループレッスン＠woof
DESCRIPTION:woofレッスンのお知らせ\n\n\n＊12月2日(金)も開催が決定しました\n個人レッスン\n\n\n＊8:30〜13:30\n個人レッスン５組\n基礎、ドッグダンス、ノーズワークetc.\nグループレッスン\n＊13:45〜16:45\nノーズワークグループレッスン6組\n\n\n\n\n＊主催：buono teach\n＊担当者名：矢野　淳子\n\n\n＊お問い合わせ。お申し込みは\nfaebookヤノジュンペーのメッセンジャー\nあるいはwebサイト申し込みページからお願いいたします。
URL:https://noseworksportsclub.jp/event/tribe_events-2695/
LOCATION:woof\, 山中湖村山中280　\, 南都留郡\, 山梨県\, 401-0501
CATEGORIES:教室・レッスン
ATTACH;FMTTYPE=image/jpeg:https://noseworksportsclub.jp/wp-content/uploads/2022/08/298784174_5223795531081427_6491934798835522233_n.jpg
ORGANIZER;CN="buono teach%EF%BC%88%E3%83%9C%E3%83%BC%E3%83%8E%E3%83%86%E3%82%A3%E3%83%BC%E3%83%81%EF%BC%89":MAILTO:buono8181@gmail.com
END:VEVENT
BEGIN:VEVENT
DTSTART;TZID=Asia/Tokyo:20221211T103000
DTEND;TZID=Asia/Tokyo:20221211T133000
DTSTAMP:20260426T095733
CREATED:20220827T200159Z
LAST-MODIFIED:20221211T134038Z
UID:2938-1670754600-1670765400@noseworksportsclub.jp
SUMMARY:【12/11 東京】におい認識テスト
DESCRIPTION:イベント名：におい認識テスト\nイベントURL\n開催日時：2022-12-11\n開催時間：10:30〜13：30\n開催場所：保谷ゴルフセンター　東京都西東京市保谷町５丁目１６−４\n開催場所URL：http://hoyagolf.com/\n参加費：5\,000円\n定員：10組\n参加条件\nNW1\,NW2\,NW3\n詳細\n10時30分より受付\n11時00分開始、13時30分終了予定\nにおい認識テスト　NW1\,NW2\,NW3　計10組\n受験費用：テスト代3\,000円＋会場代1\,500円＋テスト管理費500円　5\,000円/組 \n申し込み方法：メールにて　mail@scentline.jp\nお名前、犬のお名前、受験クラス、当日連絡先をご記入ください。\n定員になり次第受付を終了します。 \n主催：SCENT LINE（セントライン）\n担当者名：近藤 奈緒子
URL:https://noseworksportsclub.jp/event/tribe_events-2938/
LOCATION:保谷ゴルフセンター\, 保谷町５丁目１６−４\, 西東京市\, 東京都\, 202-0015
CATEGORIES:におい認識テスト・競技会
ORGANIZER;CN="SCENT LINE(%E3%82%BB%E3%83%B3%E3%83%88%E3%83%A9%E3%82%A4%E3%83%B3)%EF%BC%9A%E8%BF%91%E8%97%A4":MAILTO:mail@scentline.jp
END:VEVENT
BEGIN:VEVENT
DTSTART;TZID=Asia/Tokyo:20221218T083000
DTEND;TZID=Asia/Tokyo:20221218T100000
DTSTAMP:20260426T095733
CREATED:20220827T220303Z
LAST-MODIFIED:20221223T165526Z
UID:3114-1671352200-1671357600@noseworksportsclub.jp
SUMMARY:【12/18 兵庫】におい認識テスト & ノーズワークコンペ
DESCRIPTION:イベント名：におい認識テスト\n開催日時：2022-12-18\n開催時間：8:30〜10：00\n開催場所：兵庫県高砂市伊保崎4丁目15−23\n開催場所URL：\n参加費：3000円\n定員：13組\n参加条件\nNW1\n詳細\nにおい認識テストが終了したあとに、同じ会場でノーズワークコンペを開催します。\nコンペの参加料金は1頭につき6000円です。\n参加条件は、ノーズワークをプレーされている方であればどなたでも可。\n非公式の大会になりますので、認識テストを合格していないペアもご参加いただけます。 \n主催：Docrover\n担当者名：長谷川光\n問い合わせ先Tel：03058889487
URL:https://noseworksportsclub.jp/event/tribe_events-3114/
LOCATION:兵庫県高砂市伊保崎4丁目15−23\, 兵庫県\, 高砂市伊保崎4-15-23\, 日本
CATEGORIES:におい認識テスト・競技会
END:VEVENT
BEGIN:VEVENT
DTSTART;TZID=Asia/Tokyo:20221219T101500
DTEND;TZID=Asia/Tokyo:20221219T114500
DTSTAMP:20260426T095733
CREATED:20220827T225900Z
LAST-MODIFIED:20221223T170116Z
UID:2879-1671444900-1671450300@noseworksportsclub.jp
SUMMARY:【12/ 19 東京】ノーズワーク体験セミナーin 中目黒
DESCRIPTION:イベント名：ノーズワーク体験セミナー\nイベントURL　https://www.space-utility.com/nwsc\n開催日時：2022-12-19\n開催時間：10:15〜11：45\n開催場所：〒153-0061 東京都目黒区中目黒3-5-3\n開催場所URL：https://www.space-utility.com/\n参加費：4\,500円〜\n定員：3組\n参加条件\n小・中型犬限定\n詳細\n『ノーズワーク体験セミナー』 3組\n10時15分～11時45分\n対象：小型～中型犬（10kg程度まで）\n内容：未経験者～経験者まで個別レクチャー\n（未経験者）ノーズワーク体験会\n（２回目以降の方）基礎とターゲット臭でのサーチ練習\n参加費：前払い 4\,500円　　当日払い 5\,000円\n４回以上リピーター　500円 割引適用\n駐車場：無し（お店の前にパーキングメーター有） \n主催：SCENT LINE（セントライン）\n担当者名：近藤 奈緒子
URL:https://noseworksportsclub.jp/event/tribe_events-2879/
LOCATION:Space Utility Tokyo\, 中目黒3-5-3\, 目黒区\, 東京都\, 153-0061\, 日本
CATEGORIES:教室・レッスン
ATTACH;FMTTYPE=image/jpeg:https://noseworksportsclub.jp/wp-content/uploads/2022/08/9101112-e1666194022276.jpeg
ORGANIZER;CN="SCENT LINE(%E3%82%BB%E3%83%B3%E3%83%88%E3%83%A9%E3%82%A4%E3%83%B3)%EF%BC%9A%E8%BF%91%E8%97%A4":MAILTO:mail@scentline.jp
END:VEVENT
END:VCALENDAR