BEGIN:VCALENDAR
VERSION:2.0
PRODID:-//ノーズワークスポーツクラブ - ECPv6.15.20//NONSGML v1.0//EN
CALSCALE:GREGORIAN
METHOD:PUBLISH
X-ORIGINAL-URL:https://noseworksportsclub.jp
X-WR-CALDESC:ノーズワークスポーツクラブ のイベント
REFRESH-INTERVAL;VALUE=DURATION:PT1H
X-Robots-Tag:noindex
X-PUBLISHED-TTL:PT1H
BEGIN:VTIMEZONE
TZID:Asia/Tokyo
BEGIN:STANDARD
TZOFFSETFROM:+0900
TZOFFSETTO:+0900
TZNAME:JST
DTSTART:20230101T000000
END:STANDARD
END:VTIMEZONE
BEGIN:VEVENT
DTSTART;TZID=Asia/Tokyo:20240513T110000
DTEND;TZID=Asia/Tokyo:20240513T140000
DTSTAMP:20260423T095221
CREATED:20240404T154741Z
LAST-MODIFIED:20240407T125642Z
UID:5062-1715598000-1715608800@noseworksportsclub.jp
SUMMARY:【5/13 札幌】ノーズワーク練習会＆体験会
DESCRIPTION:イベント名：ノーズワーク練習会、体験会\nイベントURLd\n開催日時：2024-05-13\n開催時間：練習会11:00〜　ランチ12:00～ 体験会 13：00～14:00\n開催場所：シバキチカフェ　札幌市西区宮の沢１条5丁目-25-12\n開催場所URL：\n参加費：2\,000円＋ワンオーダー\n主催：DogEsse\n講師：浜塚あや子
URL:https://noseworksportsclub.jp/event/%e3%80%905-13-%e6%9c%ad%e5%b9%8c%e3%80%91%e3%83%8e%e3%83%bc%e3%82%ba%e3%83%af%e3%83%bc%e3%82%af%e7%b7%b4%e7%bf%92%e4%bc%9a%ef%bc%86%e4%bd%93%e9%a8%93%e4%bc%9a/
LOCATION:シバキチカフェ\, 札幌市西区宮の沢一条５丁目23-12\, 日本
CATEGORIES:イベント・体験会,練習会
END:VEVENT
END:VCALENDAR