BEGIN:VCALENDAR
VERSION:2.0
PRODID:-//ノーズワークスポーツクラブ - ECPv6.15.20//NONSGML v1.0//EN
CALSCALE:GREGORIAN
METHOD:PUBLISH
X-ORIGINAL-URL:https://noseworksportsclub.jp
X-WR-CALDESC:ノーズワークスポーツクラブ のイベント
REFRESH-INTERVAL;VALUE=DURATION:PT1H
X-Robots-Tag:noindex
X-PUBLISHED-TTL:PT1H
BEGIN:VTIMEZONE
TZID:Asia/Tokyo
BEGIN:STANDARD
TZOFFSETFROM:+0900
TZOFFSETTO:+0900
TZNAME:JST
DTSTART:20220101T000000
END:STANDARD
END:VTIMEZONE
BEGIN:VEVENT
DTSTART;TZID=Asia/Tokyo:20230703T101500
DTEND;TZID=Asia/Tokyo:20230703T114500
DTSTAMP:20260425T214008
CREATED:20230423T170027Z
LAST-MODIFIED:20230714T144841Z
UID:3640-1688379300-1688384700@noseworksportsclub.jp
SUMMARY:【7/ 3 東京】ノーズワーク体験セミナーin 中目黒
DESCRIPTION:イベント名：ノーズワーク体験セミナー in 中目黒\nイベントURLhttp://www.scentline.jp/\n開催日時：2023-07-03\n開催時間：10:15〜11：45\n開催場所：Space Utility TOKYO  〒153-0061 東京都目黒区中目黒3-5-3\n開催場所URL：https://www.space-utility.com/access\n参加費：3回まで4\,500円（5\,000円）　4回以上リピーター 4\,000円\n定員：3組\n参加条件\n未経験者&初心者&経験者（小・中型犬限定）\n詳細\n今後の開催予定日：5/29（月）、7/3（月）\n初回参加の方は、芳香蒸留水プレゼント\n駐車場無し（目の前にパーキングメーターあり）\n最寄駅：東急東横線「中目黒」 \n主催：SCENT LINE\n担当者名：近藤奈緒子
URL:https://noseworksportsclub.jp/event/tribe_events-3640/
LOCATION:Space Utility Tokyo\, 中目黒3-5-3\, 目黒区\, 東京都\, 153-0061\, 日本
CATEGORIES:セミナー,教室・レッスン
ORGANIZER;CN="SCENT LINE(%E3%82%BB%E3%83%B3%E3%83%88%E3%83%A9%E3%82%A4%E3%83%B3)%EF%BC%9A%E8%BF%91%E8%97%A4":MAILTO:mail@scentline.jp
END:VEVENT
BEGIN:VEVENT
DTSTART;TZID=Asia/Tokyo:20230722T130000
DTEND;TZID=Asia/Tokyo:20230722T150000
DTSTAMP:20260425T214008
CREATED:20230420T170106Z
LAST-MODIFIED:20230725T145238Z
UID:3797-1690030800-1690038000@noseworksportsclub.jp
SUMMARY:【7/22 ノーズワーク体験教室 in 福生市】
DESCRIPTION:イベント名：ノーズワーク体験教室 in 福生市\nイベントURL　https://www.instagram.com/p/CupQNCpvya3/?img_index=1\n開催日時：2023-07-22\n開催時間：13:00〜15：00\n開催場所：東京都 福生市南田園2-4-13　Cafeどす\n開催場所URL：https://r.goope.jp/cafedosu/about\n参加費：5\,500円\n定員：5組\n参加条件\n初心者\n詳細\n駐車場は近隣コインパーキングをご利用ください。 \n毎月第4土曜日開催\n継続コース　10時から　4\,000円\n体験教室　13時から　5\,500円 \n継続コースは体験教室受講済みの方のみご参加いただけます。\nお茶付き。\n体験教室はスターターキット&テキスト付き。 \n申し込み締切　7月18日\n連絡先：かふぇどすさんへ直接お申し込みください。\n電話、DM、LINE↓\nhttps://lit.link/cafedosu \n主催：カフェどす × SCENT LINE\n担当者名：近藤奈緒子\n問い合わせ先Tel：080-3505-0075
URL:https://noseworksportsclub.jp/event/tribe_events-3797/
LOCATION:Cafeどす\, 東京都 福生市南田園2-4-13　\, 日本
CATEGORIES:教室・レッスン
ORGANIZER;CN="SCENT LINE(%E3%82%BB%E3%83%B3%E3%83%88%E3%83%A9%E3%82%A4%E3%83%B3)%EF%BC%9A%E8%BF%91%E8%97%A4":MAILTO:mail@scentline.jp
END:VEVENT
BEGIN:VEVENT
DTSTART;TZID=Asia/Tokyo:20230726T133000
DTEND;TZID=Asia/Tokyo:20230726T144500
DTSTAMP:20260425T214008
CREATED:20230424T161618Z
LAST-MODIFIED:20230725T145341Z
UID:3704-1690378200-1690382700@noseworksportsclub.jp
SUMMARY:【7/26 横浜】ノーズワーク教室 in 戸塚
DESCRIPTION:イベント名：ノーズワーク教室 in 戸塚\nイベントURL：　http://scentline.sblo.jp/article/190355893.html\n開催日時：2023-07-26\n開催時間：13:30〜14：45\n開催場所：横浜市戸塚区東俣野町１２０７－３\n開催場所URL：https://www.kowa-gp.co.jp/info\n参加費：8\,000円\n定員：1組\n参加条件\n未経験者から経験者まで\n詳細\n駐車場あり、無料ドッグランあり。\n『北欧流ノーズワークプライベート&セミプライベートクラス』\n・12時00分～13時15分　 1組or2組　　　※満席　\n・13時30分～14時45分　 1組or2組 \n参加費：当日払い　1組8\,000円　　/ 2組 14\,000円 \n主催：SCENT LINE\n担当者名：近藤奈緒子
URL:https://noseworksportsclub.jp/event/tribe_events-3704/
LOCATION:幸和建設工業株式会社\, 横浜市戸塚区東俣野1207-3\, 日本
CATEGORIES:教室・レッスン
ORGANIZER;CN="SCENT LINE(%E3%82%BB%E3%83%B3%E3%83%88%E3%83%A9%E3%82%A4%E3%83%B3)%EF%BC%9A%E8%BF%91%E8%97%A4":MAILTO:mail@scentline.jp
END:VEVENT
END:VCALENDAR