BEGIN:VCALENDAR
VERSION:2.0
PRODID:-//ノーズワークスポーツクラブ - ECPv6.15.20//NONSGML v1.0//EN
CALSCALE:GREGORIAN
METHOD:PUBLISH
X-WR-CALNAME:ノーズワークスポーツクラブ
X-ORIGINAL-URL:https://noseworksportsclub.jp
X-WR-CALDESC:ノーズワークスポーツクラブ のイベント
REFRESH-INTERVAL;VALUE=DURATION:PT1H
X-Robots-Tag:noindex
X-PUBLISHED-TTL:PT1H
BEGIN:VTIMEZONE
TZID:Asia/Tokyo
BEGIN:STANDARD
TZOFFSETFROM:+0900
TZOFFSETTO:+0900
TZNAME:JST
DTSTART:20210101T000000
END:STANDARD
END:VTIMEZONE
BEGIN:VEVENT
DTSTART;TZID=Asia/Tokyo:20220813T101500
DTEND;TZID=Asia/Tokyo:20220813T114500
DTSTAMP:20260426T131327
CREATED:20220804T180845Z
LAST-MODIFIED:20220805T231012Z
UID:2533-1660385700-1660391100@noseworksportsclub.jp
SUMMARY:【8/13東京】北欧流ノーズワーク体験セミナー in 中目黒（月１回開催）
DESCRIPTION:イベント名：北欧流ノーズワーク体験セミナー in 中目黒（月１回開催）\nイベントURL　http://scentline.sblo.jp/article/189572608.html\n開催日時：2022-08-13\n開催時間：10:15〜11：45\n開催場所：〒153-0061 東京都目黒区中目黒3-5-3\n開催場所URL：https://www.space-utility.com/\n参加費：4500円〜\n定員：4組\n参加条件\n小・中型犬限定\n詳細\n7/9（土）、8/13（土）、9/8（木）\n『ノーズワーク体験セミナー』 4組\n10時15分～11時45分\n対象：小型～中型犬（10kg程度まで）\n内容：未経験者～経験者まで個別レクチャー\n（未経験者）ノーズワーク体験会\n（２回目以降の方）基礎とターゲット臭でのサーチ練習\n参加費：前払い 4\,500円　　当日払い 5\,000円\n４回以上リピーター　500円 割引適用\n駐車場無し \n主催：SCENT LINE（セントライン）\n担当者名：近藤 奈緒子
URL:https://noseworksportsclub.jp/event/tribe_events-2533/
LOCATION:Space Utility Tokyo\, 中目黒3-5-3\, 目黒区\, 東京都\, 153-0061\, 日本
CATEGORIES:教室・レッスン
ATTACH;FMTTYPE=image/jpeg:https://noseworksportsclub.jp/wp-content/uploads/2022/06/0e576415290bd425732ea15669520f5f.jpg
ORGANIZER;CN="SCENT LINE(%E3%82%BB%E3%83%B3%E3%83%88%E3%83%A9%E3%82%A4%E3%83%B3)%EF%BC%9A%E8%BF%91%E8%97%A4":MAILTO:mail@scentline.jp
END:VEVENT
BEGIN:VEVENT
DTSTART;TZID=Asia/Tokyo:20220820T130000
DTEND;TZID=Asia/Tokyo:20220820T143000
DTSTAMP:20260426T131327
CREATED:20220801T011305Z
LAST-MODIFIED:20220905T144341Z
UID:2554-1661000400-1661005800@noseworksportsclub.jp
SUMMARY:【8/20 東京】北欧流ノーズワーク教室 in いぬのともだち
DESCRIPTION:イベント名：北欧流ノーズワーク教室 in いぬのともだち\nイベントURLhttp://scentline.sblo.jp/article/189572608.html\n開催日時：2022-08-20\n開催時間：13:00〜14：30\n開催場所：東京都目黒区中町1-6-8MSビル１F\n開催場所URL：https://chiisanpo-dog.tokyo/inunotomodati/\n参加費：4000円\n定員：1組\n参加条件\n小・中型犬限定\n詳細\n7/23（土）、8/20（土）、9/17（土） \n『北欧流ノーズワーク教室』2組\n11時00分～12時30分　経験者クラス　２組\n13時00分～14時30分　入門クラス　２組\n対象：小型～中型犬（10kg程度まで）\n内容：セミプライベート。初心者から経験者まで\n参加費：当日払い 4\,000円\n駐車場無し \n主催：SCENT LINE（セントライン）\n担当者名：近藤 奈緒子
URL:https://noseworksportsclub.jp/event/tribe_events-2554/
LOCATION:いぬのともだち\, 東京都目黒区中町1ー6ー8\, 目黒区\, 東京都\, 1530065\, 日本
CATEGORIES:教室・レッスン
ORGANIZER;CN="SCENT LINE(%E3%82%BB%E3%83%B3%E3%83%88%E3%83%A9%E3%82%A4%E3%83%B3)%EF%BC%9A%E8%BF%91%E8%97%A4":MAILTO:mail@scentline.jp
END:VEVENT
BEGIN:VEVENT
DTSTART;TZID=Asia/Tokyo:20220821T100000
DTEND;TZID=Asia/Tokyo:20220821T233000
DTSTAMP:20260426T131327
CREATED:20220801T011029Z
LAST-MODIFIED:20220905T144456Z
UID:2571-1661076000-1661124600@noseworksportsclub.jp
SUMMARY:【8/21 東京】ノーズワーククラス（月１回開催）
DESCRIPTION:イベント名：ノーズワーククラス（月１回開催）\nイベントURLhttp://scentline.sblo.jp/article/189572608.html\n開催日時：2022-08-21\n開催時間：10:00〜11：30\n開催場所：保谷ゴルフセンター\n開催場所URL：http://hoyagolf.com/\n参加費：5\,000円〜\n定員：5組\n参加条件\nなし\n詳細\n月１〜２回で開催しています。\n７/24（日）以降は10時00分〜11時30分で開催します。 \n小型犬〜大型犬、初心者〜経験者まで参加できます。\n駐車場は先着２台分確保してあります。近隣に格安コインパーキングあります。\n※グループクラスとなります。全く初めての方や他の人や犬が苦手な場合は\n会場を貸切にできるプライベートクラスからご利用ください。 \n主催：SCENT LINE（セントライン）\n担当者名：近藤 奈緒子
URL:https://noseworksportsclub.jp/event/tribe_events-2571/
LOCATION:保谷ゴルフセンター\, 保谷町５丁目１６−４\, 西東京市\, 東京都\, 202-0015
CATEGORIES:教室・レッスン
ORGANIZER;CN="SCENT LINE(%E3%82%BB%E3%83%B3%E3%83%88%E3%83%A9%E3%82%A4%E3%83%B3)%EF%BC%9A%E8%BF%91%E8%97%A4":MAILTO:mail@scentline.jp
END:VEVENT
END:VCALENDAR