BEGIN:VCALENDAR
VERSION:2.0
PRODID:-//ノーズワークスポーツクラブ - ECPv6.15.20//NONSGML v1.0//EN
CALSCALE:GREGORIAN
METHOD:PUBLISH
X-ORIGINAL-URL:https://noseworksportsclub.jp
X-WR-CALDESC:ノーズワークスポーツクラブ のイベント
REFRESH-INTERVAL;VALUE=DURATION:PT1H
X-Robots-Tag:noindex
X-PUBLISHED-TTL:PT1H
BEGIN:VTIMEZONE
TZID:Asia/Tokyo
BEGIN:STANDARD
TZOFFSETFROM:+0900
TZOFFSETTO:+0900
TZNAME:JST
DTSTART:20230101T000000
END:STANDARD
END:VTIMEZONE
BEGIN:VEVENT
DTSTART;TZID=Asia/Tokyo:20240511T103000
DTEND;TZID=Asia/Tokyo:20240511T113000
DTSTAMP:20260423T095847
CREATED:20240408T140103Z
LAST-MODIFIED:20240408T140103Z
UID:5129-1715423400-1715427000@noseworksportsclub.jp
SUMMARY:【5/11 東京】北欧流ノーズワーク体験レッスン
DESCRIPTION:開催日時：2024-05-11\n開催時間：10:30〜11：30 (受付10:15\n開催場所：LIFESTYLE パークサイドラボ　西東京市東伏見1-14-6\n開催場所URL：\n参加費：3\,000円 一頭　ノーズワークスターターキットプレゼント付き \n定員：3組 \n主催：ドッグジョイカンパニー\n担当者名：藤野芽久美
URL:https://noseworksportsclub.jp/event/%e3%80%905-11-%e6%9d%b1%e4%ba%ac%e3%80%91%e5%8c%97%e6%ac%a7%e6%b5%81%e3%83%8e%e3%83%bc%e3%82%ba%e3%83%af%e3%83%bc%e3%82%af%e4%bd%93%e9%a8%93%e3%83%ac%e3%83%83%e3%82%b9%e3%83%b3/
CATEGORIES:教室・レッスン
END:VEVENT
END:VCALENDAR