BEGIN:VCALENDAR
VERSION:2.0
PRODID:-//ノーズワークスポーツクラブ - ECPv6.15.20//NONSGML v1.0//EN
CALSCALE:GREGORIAN
METHOD:PUBLISH
X-WR-CALNAME:ノーズワークスポーツクラブ
X-ORIGINAL-URL:https://noseworksportsclub.jp
X-WR-CALDESC:ノーズワークスポーツクラブ のイベント
REFRESH-INTERVAL;VALUE=DURATION:PT1H
X-Robots-Tag:noindex
X-PUBLISHED-TTL:PT1H
BEGIN:VTIMEZONE
TZID:Asia/Tokyo
BEGIN:STANDARD
TZOFFSETFROM:+0900
TZOFFSETTO:+0900
TZNAME:JST
DTSTART:20210101T000000
END:STANDARD
END:VTIMEZONE
BEGIN:VEVENT
DTSTART;TZID=Asia/Tokyo:20221111T083000
DTEND;TZID=Asia/Tokyo:20221111T164500
DTSTAMP:20260426T101352
CREATED:20220809T012050Z
LAST-MODIFIED:20221111T143932Z
UID:2693-1668155400-1668185100@noseworksportsclub.jp
SUMMARY:【11/11 山梨】個人レッスン・グループレッスン＠woof
DESCRIPTION:★woof レッスン　(屋内ドッグラン1/4)\n\n\n\n\n＊11月11日(金) 個人レッスン8:30のみ空きがあります。\n　グループレッスンは残り3組となってます。\n\nお申し込み状況によっては、枠が埋まっている可能性があります。\n下記より、主催者にお問い合わせの上、お申し込み下さい。\n\n\n個人レッスン\n11月11日(金)\n\n\n  8:30〜個人レッスン　空\n  9:30〜個人レッスン   満\n10:30〜個人レッスン　満\n11:30〜個人レッスン　満\n12:30〜個人レッスン　満\n\nグループレッスン\n\n13:45〜ノーズワークグループレッスン(６組) 残3組\n\n\n終了16:45予定\n\n料金や注意事項\n\n\n\n料金\n個人レッスン　　　9000円\nグループレッスン　7000円\n(施設使用料含む)\n\n\nwoofの入場料金はフロントでお支払いください。\n\n\n個人レッスンはそれぞれのトレーニング内容の希望をお知らせください。\nノーズワーク、ドッグダンス、基礎、etc.\n\n\n\n\n＊主催：buono teach\n＊担当者名：矢野　淳子\n\n\n＊申し込みは\nfaebookヤノジュンペーのメッセンジャー\nあるいはwebサイト申し込みページからお願いいたします。
URL:https://noseworksportsclub.jp/event/tribe_events-2693/
LOCATION:woof\, 山中湖村山中280　\, 南都留郡\, 山梨県\, 401-0501
CATEGORIES:教室・レッスン
ATTACH;FMTTYPE=image/jpeg:https://noseworksportsclub.jp/wp-content/uploads/2022/08/300830183_5251541821640131_8436711523163101468_n.jpg
ORGANIZER;CN="buono teach%EF%BC%88%E3%83%9C%E3%83%BC%E3%83%8E%E3%83%86%E3%82%A3%E3%83%BC%E3%83%81%EF%BC%89":MAILTO:buono8181@gmail.com
END:VEVENT
END:VCALENDAR