BEGIN:VCALENDAR
VERSION:2.0
PRODID:-//ノーズワークスポーツクラブ - ECPv6.15.20//NONSGML v1.0//EN
CALSCALE:GREGORIAN
METHOD:PUBLISH
X-ORIGINAL-URL:https://noseworksportsclub.jp
X-WR-CALDESC:ノーズワークスポーツクラブ のイベント
REFRESH-INTERVAL;VALUE=DURATION:PT1H
X-Robots-Tag:noindex
X-PUBLISHED-TTL:PT1H
BEGIN:VTIMEZONE
TZID:Asia/Tokyo
BEGIN:STANDARD
TZOFFSETFROM:+0900
TZOFFSETTO:+0900
TZNAME:JST
DTSTART:20210101T000000
END:STANDARD
END:VTIMEZONE
BEGIN:VEVENT
DTSTART;TZID=Asia/Tokyo:20221009T150000
DTEND;TZID=Asia/Tokyo:20221009T163000
DTSTAMP:20260426T114848
CREATED:20220814T010028Z
LAST-MODIFIED:20221009T003844Z
UID:2856-1665327600-1665333000@noseworksportsclub.jp
SUMMARY:【10/9 横浜（芹が谷) 】におい認識テスト対策クラス in 横浜（芹が谷）
DESCRIPTION:イベント名：におい認識テスト対策クラス in 横浜（芹が谷）\nイベントURL http://scentline.sblo.jp/article/189755667.html\n開催日時：2022-10-09\n開催時間：15:00〜16：30\n開催場所：神奈川県横浜市港南区芹が谷（詳細はお申し込み時にお知らせします）\n開催場所URL：https://www.facebook.com/profile.php?id=100054269871092\n参加費：5\,500円\n定員：6組\n参加条件\nにおい認識テスト（NW1\,NW2\,NW3）\n詳細\n対象：におい認識テストを受けてみたい方、これから受ける予定の方\n内容：模擬テスト、結果を踏まえての各自の課題の洗い出し、練習への取り組み方アドバイス。NW2以上については誘惑臭についての説明。\n駐車場：有り（無料） \n主催：SCENT LINE（セントライン）\n担当者名：近藤 奈緒子
URL:https://noseworksportsclub.jp/event/tribe_events-2856/
LOCATION:横浜市港南区芹が谷\, 港南区芹が谷\, 横浜市\, 神奈川県\, 日本
CATEGORIES:教室・レッスン
ORGANIZER;CN="SCENT LINE(%E3%82%BB%E3%83%B3%E3%83%88%E3%83%A9%E3%82%A4%E3%83%B3)%EF%BC%9A%E8%BF%91%E8%97%A4":MAILTO:mail@scentline.jp
END:VEVENT
END:VCALENDAR