BEGIN:VCALENDAR
VERSION:2.0
PRODID:-//ノーズワークスポーツクラブ - ECPv6.15.20//NONSGML v1.0//EN
CALSCALE:GREGORIAN
METHOD:PUBLISH
X-WR-CALNAME:ノーズワークスポーツクラブ
X-ORIGINAL-URL:https://noseworksportsclub.jp
X-WR-CALDESC:ノーズワークスポーツクラブ のイベント
REFRESH-INTERVAL;VALUE=DURATION:PT1H
X-Robots-Tag:noindex
X-PUBLISHED-TTL:PT1H
BEGIN:VTIMEZONE
TZID:Asia/Tokyo
BEGIN:STANDARD
TZOFFSETFROM:+0900
TZOFFSETTO:+0900
TZNAME:JST
DTSTART:20210101T000000
END:STANDARD
END:VTIMEZONE
BEGIN:VEVENT
DTSTART;TZID=Asia/Tokyo:20220917T110000
DTEND;TZID=Asia/Tokyo:20220917T143000
DTSTAMP:20260426T132904
CREATED:20220810T131005Z
LAST-MODIFIED:20220918T113326Z
UID:2557-1663412400-1663425000@noseworksportsclub.jp
SUMMARY:【9/17 東京】北欧流ノーズワーク教室 in いぬのともだち
DESCRIPTION:イベント名：北欧流ノーズワーク教室 in いぬのともだち\nイベントURLhttp://scentline.sblo.jp/article/189572608.html\n開催日時：2022-09-17\n開催時間：13:00〜14：30\n開催場所：東京都目黒区中町1-6-8MSビル１F\n開催場所URL：https://chiisanpo-dog.tokyo/inunotomodati/\n参加費：4000円\n定員：1組\n参加条件\n小・中型犬限定\n詳細\n8/20（土）、9/17（土） \n『北欧流ノーズワーク教室』2組\n11時00分～12時30分　経験者クラス　２組\n13時00分～14時30分　入門クラス　２組\n対象：小型～中型犬（10kg程度まで）\n内容：セミプライベート。初心者から経験者まで\n参加費：当日払い 4\,000円\n駐車場無し \n主催：SCENT LINE（セントライン）\n担当者名：近藤 奈緒子
URL:https://noseworksportsclub.jp/event/tribe_events-2557/
LOCATION:いぬのともだち\, 東京都目黒区中町1ー6ー8\, 目黒区\, 東京都\, 1530065\, 日本
CATEGORIES:教室・レッスン
ORGANIZER;CN="SCENT LINE(%E3%82%BB%E3%83%B3%E3%83%88%E3%83%A9%E3%82%A4%E3%83%B3)%EF%BC%9A%E8%BF%91%E8%97%A4":MAILTO:mail@scentline.jp
END:VEVENT
END:VCALENDAR