BEGIN:VCALENDAR
VERSION:2.0
PRODID:-//ノーズワークスポーツクラブ - ECPv6.15.20//NONSGML v1.0//EN
CALSCALE:GREGORIAN
METHOD:PUBLISH
X-WR-CALNAME:ノーズワークスポーツクラブ
X-ORIGINAL-URL:https://noseworksportsclub.jp
X-WR-CALDESC:ノーズワークスポーツクラブ のイベント
REFRESH-INTERVAL;VALUE=DURATION:PT1H
X-Robots-Tag:noindex
X-PUBLISHED-TTL:PT1H
BEGIN:VTIMEZONE
TZID:Asia/Tokyo
BEGIN:STANDARD
TZOFFSETFROM:+0900
TZOFFSETTO:+0900
TZNAME:JST
DTSTART:20210101T000000
END:STANDARD
END:VTIMEZONE
BEGIN:VEVENT
DTSTART;TZID=Asia/Tokyo:20220908T101500
DTEND;TZID=Asia/Tokyo:20220908T114500
DTSTAMP:20260426T132202
CREATED:20220814T005718Z
LAST-MODIFIED:20221009T004143Z
UID:2539-1662632100-1662637500@noseworksportsclub.jp
SUMMARY:【9/8 東京】北欧流ノーズワーク体験セミナー in 中目黒（月１回開催）
DESCRIPTION:イベント名：北欧流ノーズワーク体験セミナー in 中目黒（月１回開催）\nイベントURL　http://scentline.sblo.jp/article/189572608.html\n開催日時：2022-09-08\n開催時間：10:15〜11：45\n開催場所：〒153-0061 東京都目黒区中目黒3-5-3\n開催場所URL：https://www.space-utility.com/\n参加費：4500円〜\n定員：4組\n参加条件\n小・中型犬限定\n詳細\n7/9（土）、8/13（土）、9/8（木）\n『ノーズワーク体験セミナー』 4組\n10時15分～11時45分\n対象：小型～中型犬（10kg程度まで）\n内容：未経験者～経験者まで個別レクチャー\n（未経験者）ノーズワーク体験会\n（２回目以降の方）基礎とターゲット臭でのサーチ練習\n参加費：前払い 4\,500円　　当日払い 5\,000円\n４回以上リピーター　500円 割引適用\n駐車場無し \n主催：SCENT LINE（セントライン）\n担当者名：近藤 奈緒子
URL:https://noseworksportsclub.jp/event/tribe_events-2539/
LOCATION:Space Utility Tokyo\, 中目黒3-5-3\, 目黒区\, 東京都\, 153-0061\, 日本
CATEGORIES:教室・レッスン
ATTACH;FMTTYPE=image/jpeg:https://noseworksportsclub.jp/wp-content/uploads/2022/06/0e576415290bd425732ea15669520f5f.jpg
ORGANIZER;CN="SCENT LINE(%E3%82%BB%E3%83%B3%E3%83%88%E3%83%A9%E3%82%A4%E3%83%B3)%EF%BC%9A%E8%BF%91%E8%97%A4":MAILTO:mail@scentline.jp
END:VEVENT
BEGIN:VEVENT
DTSTART;TZID=Asia/Tokyo:20220908T110000
DTEND;TZID=Asia/Tokyo:20220908T120000
DTSTAMP:20260426T132202
CREATED:20220711T005933Z
LAST-MODIFIED:20220914T130858Z
UID:2686-1662634800-1662638400@noseworksportsclub.jp
SUMMARY:【9/8 岐阜】ノーズワークグループレッスン@岐阜
DESCRIPTION:イベント名：ノーズワークグループレッスン@岐阜\nイベントURLhttps://tomo-iki.jp/nosework\n開催日時：2022-09-08\n開催時間：11:00〜12：00\n開催場所：岐阜県岐阜市岩地2-4-3\n開催場所URL：https://tomo-iki.jp/\n参加費：5\,500円\n定員：3組\n参加条件\n初心者\n詳細\n阜市の犬のしつけ教室ONELifeです。\n当校では毎月平日限定でノーズワークのレッスンを行っています。\n初心者さんから、すでにアロマサーチ出来る子まで、その子に合せたレッスンを行います。\nちょっとどんな感じかやってみたい！でも大歓迎。\n単発受講も可能です！ \n主催：ドッグ＆オーナーズスクール　ONELife\n担当者名：島田\n問い合わせ先Tel：0582143442
URL:https://noseworksportsclub.jp/event/tribe_events-2686/
LOCATION:ONE Life\, 岩地2-4-3\, 岐阜市\, 岐阜県\, 5008225\, 日本
CATEGORIES:教室・レッスン
ATTACH;FMTTYPE=image/png:https://noseworksportsclub.jp/wp-content/uploads/2022/08/zu--e1660814951719.png
ORGANIZER;CN="ONE Life":MAILTO:contact@tomo-iki.jp
END:VEVENT
END:VCALENDAR