BEGIN:VCALENDAR
VERSION:2.0
PRODID:-//ノーズワークスポーツクラブ - ECPv6.15.20//NONSGML v1.0//EN
CALSCALE:GREGORIAN
METHOD:PUBLISH
X-ORIGINAL-URL:https://noseworksportsclub.jp
X-WR-CALDESC:ノーズワークスポーツクラブ のイベント
REFRESH-INTERVAL;VALUE=DURATION:PT1H
X-Robots-Tag:noindex
X-PUBLISHED-TTL:PT1H
BEGIN:VTIMEZONE
TZID:Asia/Tokyo
BEGIN:STANDARD
TZOFFSETFROM:+0900
TZOFFSETTO:+0900
TZNAME:JST
DTSTART:20250101T000000
END:STANDARD
END:VTIMEZONE
BEGIN:VEVENT
DTSTART;TZID=Asia/Tokyo:20260214T100000
DTEND;TZID=Asia/Tokyo:20260214T160000
DTSTAMP:20260421T221621
CREATED:20260126T143232Z
LAST-MODIFIED:20260126T143232Z
UID:8374-1771063200-1771084800@noseworksportsclub.jp
SUMMARY:【埼玉】ノーズワーク体験 in わんこのフェス
DESCRIPTION:
URL:https://noseworksportsclub.jp/event/%e3%80%90%e5%9f%bc%e7%8e%89%e3%80%91%e3%83%8e%e3%83%bc%e3%82%ba%e3%83%af%e3%83%bc%e3%82%af%e4%bd%93%e9%a8%93-in-%e3%82%8f%e3%82%93%e3%81%93%e3%81%ae%e3%83%95%e3%82%a7%e3%82%b9/
CATEGORIES:イベント・体験会
END:VEVENT
BEGIN:VEVENT
DTSTART;TZID=Asia/Tokyo:20260224T110000
DTEND;TZID=Asia/Tokyo:20260224T120000
DTSTAMP:20260421T221621
CREATED:20251226T092948Z
LAST-MODIFIED:20251226T092948Z
UID:8133-1771930800-1771934400@noseworksportsclub.jp
SUMMARY:【大阪】茨木 ノーズワークデモンストレーション＆トリーツサーチ体験会
DESCRIPTION:
URL:https://noseworksportsclub.jp/event/%e3%80%90%e5%a4%a7%e9%98%aa%e3%80%91%e8%8c%a8%e6%9c%a8-%e3%83%8e%e3%83%bc%e3%82%ba%e3%83%af%e3%83%bc%e3%82%af%e3%83%87%e3%83%a2%e3%83%b3%e3%82%b9%e3%83%88%e3%83%ac%e3%83%bc%e3%82%b7%e3%83%a7%e3%83%b3/
CATEGORIES:イベント・体験会
END:VEVENT
END:VCALENDAR