BEGIN:VCALENDAR
VERSION:2.0
PRODID:-//ノーズワークスポーツクラブ - ECPv6.15.20//NONSGML v1.0//EN
CALSCALE:GREGORIAN
METHOD:PUBLISH
X-ORIGINAL-URL:https://noseworksportsclub.jp
X-WR-CALDESC:ノーズワークスポーツクラブ のイベント
REFRESH-INTERVAL;VALUE=DURATION:PT1H
X-Robots-Tag:noindex
X-PUBLISHED-TTL:PT1H
BEGIN:VTIMEZONE
TZID:Asia/Tokyo
BEGIN:STANDARD
TZOFFSETFROM:+0900
TZOFFSETTO:+0900
TZNAME:JST
DTSTART:20230101T000000
END:STANDARD
END:VTIMEZONE
BEGIN:VEVENT
DTSTART;TZID=Asia/Tokyo:20241109T100000
DTEND;TZID=Asia/Tokyo:20241109T150000
DTSTAMP:20260422T220608
CREATED:20240830T161129Z
LAST-MODIFIED:20240830T161129Z
UID:6510-1731146400-1731164400@noseworksportsclub.jp
SUMMARY:【長野】滝沢牧場わんわんカーニバル
DESCRIPTION:
URL:https://noseworksportsclub.jp/event/%e3%80%90%e9%95%b7%e9%87%8e%e3%80%91%e6%bb%9d%e6%b2%a2%e7%89%a7%e5%a0%b4%e3%82%8f%e3%82%93%e3%82%8f%e3%82%93%e3%82%ab%e3%83%bc%e3%83%8b%e3%83%90%e3%83%ab/
CATEGORIES:イベント・体験会
END:VEVENT
BEGIN:VEVENT
DTSTART;TZID=Asia/Tokyo:20241110T100000
DTEND;TZID=Asia/Tokyo:20241110T160000
DTSTAMP:20260422T220608
CREATED:20241026T134642Z
LAST-MODIFIED:20241026T134642Z
UID:6770-1731232800-1731254400@noseworksportsclub.jp
SUMMARY:【東京】ノーズワーク体験＆デモンストレーション
DESCRIPTION:
URL:https://noseworksportsclub.jp/event/%e3%80%90%e6%9d%b1%e4%ba%ac%e3%80%91%e3%83%8e%e3%83%bc%e3%82%ba%e3%83%af%e3%83%bc%e3%82%af%e4%bd%93%e9%a8%93%ef%bc%86%e3%83%87%e3%83%a2%e3%83%b3%e3%82%b9%e3%83%88%e3%83%ac%e3%83%bc%e3%82%b7%e3%83%a7/
CATEGORIES:イベント・体験会
END:VEVENT
END:VCALENDAR