BEGIN:VCALENDAR
VERSION:2.0
PRODID:-//ノーズワークスポーツクラブ - ECPv6.15.20//NONSGML v1.0//EN
CALSCALE:GREGORIAN
METHOD:PUBLISH
X-WR-CALNAME:ノーズワークスポーツクラブ
X-ORIGINAL-URL:https://noseworksportsclub.jp
X-WR-CALDESC:ノーズワークスポーツクラブ のイベント
REFRESH-INTERVAL;VALUE=DURATION:PT1H
X-Robots-Tag:noindex
X-PUBLISHED-TTL:PT1H
BEGIN:VTIMEZONE
TZID:Asia/Tokyo
BEGIN:STANDARD
TZOFFSETFROM:+0900
TZOFFSETTO:+0900
TZNAME:JST
DTSTART:20240101T000000
END:STANDARD
END:VTIMEZONE
BEGIN:VEVENT
DTSTART;TZID=Asia/Tokyo:20251206T100000
DTEND;TZID=Asia/Tokyo:20251206T160000
DTSTAMP:20260422T023804
CREATED:20251226T092646Z
LAST-MODIFIED:20251226T092812Z
UID:8129-1765015200-1765036800@noseworksportsclub.jp
SUMMARY:【東京】SippoFesta（しっぽフェスタ）2025冬　ノーズワークスポーツ体験会
DESCRIPTION:
URL:https://noseworksportsclub.jp/event/%e3%80%90%e6%9d%b1%e4%ba%ac%e3%80%91sippofesta%ef%bc%88%e3%81%97%e3%81%a3%e3%81%bd%e3%83%95%e3%82%a7%e3%82%b9%e3%82%bf%ef%bc%892025%e5%86%ac%e3%80%80%e3%83%8e%e3%83%bc%e3%82%ba%e3%83%af%e3%83%bc/
CATEGORIES:イベント・体験会
END:VEVENT
END:VCALENDAR