BEGIN:VCALENDAR
VERSION:2.0
PRODID:-//ノーズワークスポーツクラブ - ECPv6.15.20//NONSGML v1.0//EN
CALSCALE:GREGORIAN
METHOD:PUBLISH
X-WR-CALNAME:ノーズワークスポーツクラブ
X-ORIGINAL-URL:https://noseworksportsclub.jp
X-WR-CALDESC:ノーズワークスポーツクラブ のイベント
REFRESH-INTERVAL;VALUE=DURATION:PT1H
X-Robots-Tag:noindex
X-PUBLISHED-TTL:PT1H
BEGIN:VTIMEZONE
TZID:Asia/Tokyo
BEGIN:STANDARD
TZOFFSETFROM:+0900
TZOFFSETTO:+0900
TZNAME:JST
DTSTART:20210101T000000
END:STANDARD
END:VTIMEZONE
BEGIN:VEVENT
DTSTART;TZID=Asia/Tokyo:20221016T110000
DTEND;TZID=Asia/Tokyo:20221016T170000
DTSTAMP:20260426T114433
CREATED:20220814T010041Z
LAST-MODIFIED:20221023T141248Z
UID:2950-1665918000-1665939600@noseworksportsclub.jp
SUMMARY:【10/16 東京】ワンコイン北欧流ノーズワーク体験イベント＠ワフワフマルシェ
DESCRIPTION:【ワンコイン北欧流ノーズワーク体験会】を立川市グリーンスプリングス・わふわふマルシェにて開催します！\n時間や場所を選ばず、愛犬と楽しめるドッグスポーツ「ノーズワーク」の体験会を開催します。「お鼻でクンクン♪」を通じて、いつでもどこでも愛犬の心をリフレッシュできるヒントをお伝えします。お気軽にご見学＆ご参加ください！ \n日時：2022年10月16日(日) \n(1)12:00～13:00　(受付11:00～11:30　わんわん何でも相談会ブースにて受付） \n(2)15:30～16:30　(受付14:30～15:00 　わんわん何でも相談会ブースにて受付） \n＠立川市グリーンスプリングス・わふわふマルシェ　@ソラノホテル横（予定）　※雨天中止 \n参加費：500円/組 \n定員：各回15組 – 1家族1頭のご参加にてお願いいたします。
URL:https://noseworksportsclub.jp/event/tribe_events-2950/
LOCATION:立川市グリーンスプリングス\, 東京都立川市緑町3-1\, 東京都\, 1900014\, 日本
CATEGORIES:イベント・体験会
ATTACH;FMTTYPE=image/jpeg:https://noseworksportsclub.jp/wp-content/uploads/2022/10/697c3c431bc1400f348c4326ff919dc3-e1666202449633.jpg
ORGANIZER;CN="JNWSC":MAILTO:info @ noseworksportsclub.jp
END:VEVENT
END:VCALENDAR