BEGIN:VCALENDAR
VERSION:2.0
PRODID:-//ノーズワークスポーツクラブ - ECPv6.15.20//NONSGML v1.0//EN
CALSCALE:GREGORIAN
METHOD:PUBLISH
X-WR-CALNAME:ノーズワークスポーツクラブ
X-ORIGINAL-URL:https://noseworksportsclub.jp
X-WR-CALDESC:ノーズワークスポーツクラブ のイベント
REFRESH-INTERVAL;VALUE=DURATION:PT1H
X-Robots-Tag:noindex
X-PUBLISHED-TTL:PT1H
BEGIN:VTIMEZONE
TZID:Asia/Tokyo
BEGIN:STANDARD
TZOFFSETFROM:+0900
TZOFFSETTO:+0900
TZNAME:JST
DTSTART:20240101T000000
END:STANDARD
END:VTIMEZONE
BEGIN:VEVENT
DTSTART;TZID=Asia/Tokyo:20250405T063000
DTEND;TZID=Asia/Tokyo:20250405T203000
DTSTAMP:20260422T072813
CREATED:20250306T082314Z
LAST-MODIFIED:20250306T082314Z
UID:7260-1743834600-1743885000@noseworksportsclub.jp
SUMMARY:【東京】におい認識テスト NW1 NW2 NW3
DESCRIPTION:
URL:https://noseworksportsclub.jp/event/%e3%80%90%e6%9d%b1%e4%ba%ac%e3%80%91%e3%81%ab%e3%81%8a%e3%81%84%e8%aa%8d%e8%ad%98%e3%83%86%e3%82%b9%e3%83%88-nw1-nw2-nw3-5/
CATEGORIES:におい認識テスト・競技会
END:VEVENT
BEGIN:VEVENT
DTSTART;VALUE=DATE:20250412
DTEND;VALUE=DATE:20250413
DTSTAMP:20260422T072813
CREATED:20250129T105433Z
LAST-MODIFIED:20250129T105634Z
UID:7153-1744416000-1744502399@noseworksportsclub.jp
SUMMARY:【山梨】道志村　NW1　全課目
DESCRIPTION:
URL:https://noseworksportsclub.jp/event/%e3%80%90%e5%b1%b1%e6%a2%a8%e3%80%91%e9%81%93%e5%bf%97%e6%9d%91%e3%80%80nw2%e3%80%80%e5%85%a8%e8%aa%b2%e7%9b%ae/
CATEGORIES:におい認識テスト・競技会
END:VEVENT
BEGIN:VEVENT
DTSTART;TZID=Asia/Tokyo:20250413T143000
DTEND;TZID=Asia/Tokyo:20250413T160000
DTSTAMP:20260422T072813
CREATED:20250318T133026Z
LAST-MODIFIED:20250318T133026Z
UID:7278-1744554600-1744560000@noseworksportsclub.jp
SUMMARY:【山梨】マッツ氏ジャッジによるにおい認識テスト NW1 NW2 NW3
DESCRIPTION:
URL:https://noseworksportsclub.jp/event/%e3%80%90%e5%b1%b1%e6%a2%a8%e3%80%91%e3%83%9e%e3%83%83%e3%83%84%e6%b0%8f%e3%82%b8%e3%83%a3%e3%83%83%e3%82%b8%e3%81%ab%e3%82%88%e3%82%8b%e3%81%ab%e3%81%8a%e3%81%84%e8%aa%8d%e8%ad%98%e3%83%86%e3%82%b9/
CATEGORIES:におい認識テスト・競技会
END:VEVENT
END:VCALENDAR