BEGIN:VCALENDAR
VERSION:2.0
PRODID:-//ノーズワークスポーツクラブ - ECPv6.15.20//NONSGML v1.0//EN
CALSCALE:GREGORIAN
METHOD:PUBLISH
X-ORIGINAL-URL:https://noseworksportsclub.jp
X-WR-CALDESC:ノーズワークスポーツクラブ のイベント
REFRESH-INTERVAL;VALUE=DURATION:PT1H
X-Robots-Tag:noindex
X-PUBLISHED-TTL:PT1H
BEGIN:VTIMEZONE
TZID:Asia/Tokyo
BEGIN:STANDARD
TZOFFSETFROM:+0900
TZOFFSETTO:+0900
TZNAME:JST
DTSTART:20240101T000000
END:STANDARD
END:VTIMEZONE
BEGIN:VEVENT
DTSTART;TZID=Asia/Tokyo:20250211T110000
DTEND;TZID=Asia/Tokyo:20250211T120000
DTSTAMP:20260422T103126
CREATED:20250110T091331Z
LAST-MODIFIED:20250110T091331Z
UID:7057-1739271600-1739275200@noseworksportsclub.jp
SUMMARY:【愛知】におい認識テスト NW1 NW2 NW3
DESCRIPTION:
URL:https://noseworksportsclub.jp/event/%e3%80%90%e6%84%9b%e7%9f%a5%e3%80%91%e3%81%ab%e3%81%8a%e3%81%84%e8%aa%8d%e8%ad%98%e3%83%86%e3%82%b9%e3%83%88-nw1-nw2-nw3/
CATEGORIES:におい認識テスト・競技会
END:VEVENT
BEGIN:VEVENT
DTSTART;VALUE=DATE:20250216
DTEND;VALUE=DATE:20250217
DTSTAMP:20260422T103126
CREATED:20241120T132820Z
LAST-MODIFIED:20241120T132820Z
UID:6893-1739664000-1739750399@noseworksportsclub.jp
SUMMARY:JNWSC主催 2025年2月公式ノーズワーク競技会 in 戸塚
DESCRIPTION:
URL:https://noseworksportsclub.jp/event/jnwsc%e4%b8%bb%e5%82%ac-2025%e5%b9%b42%e6%9c%88%e5%85%ac%e5%bc%8f%e3%83%8e%e3%83%bc%e3%82%ba%e3%83%af%e3%83%bc%e3%82%af%e7%ab%b6%e6%8a%80%e4%bc%9a-in-%e6%88%b8%e5%a1%9a/
CATEGORIES:におい認識テスト・競技会
END:VEVENT
BEGIN:VEVENT
DTSTART;TZID=Asia/Tokyo:20250216T083000
DTEND;TZID=Asia/Tokyo:20250216T100000
DTSTAMP:20260422T103126
CREATED:20250109T143058Z
LAST-MODIFIED:20250109T143058Z
UID:7049-1739694600-1739700000@noseworksportsclub.jp
SUMMARY:【大阪】におい認識テスト NW1 NW2 NW3
DESCRIPTION:
URL:https://noseworksportsclub.jp/event/%e3%80%90%e5%a4%a7%e9%98%aa%e3%80%91%e3%81%ab%e3%81%8a%e3%81%84%e8%aa%8d%e8%ad%98%e3%83%86%e3%82%b9%e3%83%88-nw1-nw2-nw3-2/
CATEGORIES:におい認識テスト・競技会
END:VEVENT
BEGIN:VEVENT
DTSTART;VALUE=DATE:20250221
DTEND;VALUE=DATE:20250222
DTSTAMP:20260422T103126
CREATED:20250104T120050Z
LAST-MODIFIED:20250104T120050Z
UID:6951-1740096000-1740182399@noseworksportsclub.jp
SUMMARY:【兵庫】加古川 NW1 全課目
DESCRIPTION:
URL:https://noseworksportsclub.jp/event/%e3%80%90%e5%85%b5%e5%ba%ab%e3%80%91%e5%8a%a0%e5%8f%a4%e5%b7%9d-nw1-%e5%85%a8%e8%aa%b2%e7%9b%ae/
CATEGORIES:におい認識テスト・競技会
END:VEVENT
END:VCALENDAR