BEGIN:VCALENDAR
VERSION:2.0
PRODID:-//ノーズワークスポーツクラブ - ECPv6.15.20//NONSGML v1.0//EN
CALSCALE:GREGORIAN
METHOD:PUBLISH
X-WR-CALNAME:ノーズワークスポーツクラブ
X-ORIGINAL-URL:https://noseworksportsclub.jp
X-WR-CALDESC:ノーズワークスポーツクラブ のイベント
REFRESH-INTERVAL;VALUE=DURATION:PT1H
X-Robots-Tag:noindex
X-PUBLISHED-TTL:PT1H
BEGIN:VTIMEZONE
TZID:Asia/Tokyo
BEGIN:STANDARD
TZOFFSETFROM:+0900
TZOFFSETTO:+0900
TZNAME:JST
DTSTART:20230101T000000
END:STANDARD
END:VTIMEZONE
BEGIN:VEVENT
DTSTART;TZID=Asia/Tokyo:20240907T103000
DTEND;TZID=Asia/Tokyo:20240907T113000
DTSTAMP:20260422T185741
CREATED:20240809T154344Z
LAST-MODIFIED:20240809T154344Z
UID:6429-1725705000-1725708600@noseworksportsclub.jp
SUMMARY:【大阪】におい認識テスト　NW1 NW2 NW3
DESCRIPTION:
URL:https://noseworksportsclub.jp/event/%e3%80%90%e5%a4%a7%e9%98%aa%e3%80%91%e3%81%ab%e3%81%8a%e3%81%84%e8%aa%8d%e8%ad%98%e3%83%86%e3%82%b9%e3%83%88%e3%80%80nw1-nw2-nw3/
CATEGORIES:におい認識テスト・競技会
END:VEVENT
BEGIN:VEVENT
DTSTART;TZID=Asia/Tokyo:20240914T093000
DTEND;TZID=Asia/Tokyo:20240914T113000
DTSTAMP:20260422T185741
CREATED:20240801T022821Z
LAST-MODIFIED:20240801T022821Z
UID:6276-1726306200-1726313400@noseworksportsclub.jp
SUMMARY:【東京】におい認識テスト　NW1  NW2  NW3
DESCRIPTION:
URL:https://noseworksportsclub.jp/event/%e3%80%90%e6%9d%b1%e4%ba%ac%e3%80%91%e3%81%ab%e3%81%8a%e3%81%84%e8%aa%8d%e8%ad%98%e3%83%86%e3%82%b9%e3%83%88%e3%80%80nw1-nw2-nw3/
CATEGORIES:におい認識テスト・競技会
END:VEVENT
BEGIN:VEVENT
DTSTART;TZID=Asia/Tokyo:20240915T110000
DTEND;TZID=Asia/Tokyo:20240915T123000
DTSTAMP:20260422T185741
CREATED:20240724T040036Z
LAST-MODIFIED:20240724T040036Z
UID:6235-1726398000-1726403400@noseworksportsclub.jp
SUMMARY:【愛知】におい認識テスト　NW1  NW2  NW3
DESCRIPTION:  \n 
URL:https://noseworksportsclub.jp/event/%e3%80%90%e6%84%9b%e7%9f%a5%e3%80%91%e3%81%ab%e3%81%8a%e3%81%84%e8%aa%8d%e8%ad%98%e3%83%86%e3%82%b9%e3%83%88%e3%80%80nw1-nw2-nw3/
CATEGORIES:におい認識テスト・競技会
END:VEVENT
END:VCALENDAR