BEGIN:VCALENDAR
VERSION:2.0
PRODID:-//ノーズワークスポーツクラブ - ECPv6.15.20//NONSGML v1.0//EN
CALSCALE:GREGORIAN
METHOD:PUBLISH
X-WR-CALNAME:ノーズワークスポーツクラブ
X-ORIGINAL-URL:https://noseworksportsclub.jp
X-WR-CALDESC:ノーズワークスポーツクラブ のイベント
REFRESH-INTERVAL;VALUE=DURATION:PT1H
X-Robots-Tag:noindex
X-PUBLISHED-TTL:PT1H
BEGIN:VTIMEZONE
TZID:Asia/Tokyo
BEGIN:STANDARD
TZOFFSETFROM:+0900
TZOFFSETTO:+0900
TZNAME:JST
DTSTART:20220101T000000
END:STANDARD
END:VTIMEZONE
BEGIN:VEVENT
DTSTART;TZID=Asia/Tokyo:20230404T104500
DTEND;TZID=Asia/Tokyo:20230404T120000
DTSTAMP:20260425T201939
CREATED:20230228T065631Z
LAST-MODIFIED:20230228T235557Z
UID:3524-1680605100-1680609600@noseworksportsclub.jp
SUMMARY:【4/4 岐阜 】におい認識テスト
DESCRIPTION:イベント名：におい認識テスト\n開催日時：2023-04-04\n開催時間：10:45〜12：00\n開催場所：ONELife 岐阜市岩地 2－4－3\n開催場所URL：https://tomo-iki.jp/\n参加費：6\,000\n定員：5組\n参加条件\nNW1\,NW2\n詳細\nこんにちは。岐阜市のドッグ＆オーナーズスクールのONELifeです。\n4月ににおい認識テスト開催しますのでぜひ、ご参加ください。\nレッスン生でなくても参加可能です。\n参加費：5\,500円\n登録料：500円\n計6000円となります。\n駐車場は敷地内にございます。 \n主催：ドッグ＆オーナーズスクール　ONELife\n担当者名：島田\n問い合わせ先Tel：058-214-3442\n電話番号の掲載：掲載する
URL:https://noseworksportsclub.jp/event/tribe_events-3524/
LOCATION:ONE Life\, 岩地2-4-3\, 岐阜市\, 岐阜県\, 5008225\, 日本
CATEGORIES:におい認識テスト・競技会
ORGANIZER;CN="ONE Life":MAILTO:contact@tomo-iki.jp
END:VEVENT
BEGIN:VEVENT
DTSTART;TZID=Asia/Tokyo:20230409T103000
DTEND;TZID=Asia/Tokyo:20230409T153000
DTSTAMP:20260425T201939
CREATED:20230228T070528Z
LAST-MODIFIED:20230228T070653Z
UID:3456-1681036200-1681054200@noseworksportsclub.jp
SUMMARY:【4/9 東京】におい認識テスト & 競技体験会（インテリアとエクステリアサーチ）
DESCRIPTION:イベント名：におい認識テスト\nイベントURL    http://scentline.sblo.jp/article/190148420.html\n開催日時：2023-04-09\n開催時間：10:30〜13：00\n開催場所：保谷ゴルフセンター\n開催場所URL：http://hoyagolf.com/%e3%83%ac%e3%83%b3%e3%82%bf%e3%83%ab%e3%82%b9%e3%83%9a%e3%83%bc%e3%82%b9/\n参加費：5\,000円\n定員：12組\n参加条件\nNW1＋NW2＋NW3 \n詳細\nにおい認識テスト＋競技体験会（インテリアとエクステリアサーチ）\n10時30分〜13時00分　　「におい認識テスト」　定員12組\n受験クラス：NW1、NW2、NW3 \n13時30分〜15時30分　「競技体験会」　定員6組\n参加条件：ハンドラー１人につき犬１頭でご参加ください。\n内容：インテリアサーチとエクステリアサーチの２課目\nJNWSCの競技会のルールを採用した競技体験会です。\n得点・フォルトの数・タイム　で順位がつきます。\n最後に順位発表を行います。\nターゲット臭：ローリエ　（NWのクラス） \n<見学について>\n見学を兼ねたスタッフ参加できる方のみご参加頂けます。\n愛犬の同伴参加はできません。 \n主催：SCENT LINE\n担当者名：近藤奈緒子
URL:https://noseworksportsclub.jp/event/tribe_events-3456/
LOCATION:保谷ゴルフセンター\, 保谷町５丁目１６−４\, 西東京市\, 東京都\, 202-0015
CATEGORIES:におい認識テスト・競技会
ORGANIZER;CN="SCENT LINE(%E3%82%BB%E3%83%B3%E3%83%88%E3%83%A9%E3%82%A4%E3%83%B3)%EF%BC%9A%E8%BF%91%E8%97%A4":MAILTO:mail@scentline.jp
END:VEVENT
END:VCALENDAR