BEGIN:VCALENDAR
VERSION:2.0
PRODID:-//ノーズワークスポーツクラブ - ECPv6.15.20//NONSGML v1.0//EN
CALSCALE:GREGORIAN
METHOD:PUBLISH
X-ORIGINAL-URL:https://noseworksportsclub.jp
X-WR-CALDESC:ノーズワークスポーツクラブ のイベント
REFRESH-INTERVAL;VALUE=DURATION:PT1H
X-Robots-Tag:noindex
X-PUBLISHED-TTL:PT1H
BEGIN:VTIMEZONE
TZID:Asia/Tokyo
BEGIN:STANDARD
TZOFFSETFROM:+0900
TZOFFSETTO:+0900
TZNAME:JST
DTSTART:20210101T000000
END:STANDARD
END:VTIMEZONE
BEGIN:VEVENT
DTSTART;TZID=Asia/Tokyo:20220605T100000
DTEND;TZID=Asia/Tokyo:20220605T160000
DTSTAMP:20260426T101347
CREATED:20220507T212748Z
LAST-MODIFIED:20220507T214539Z
UID:2348-1654423200-1654444800@noseworksportsclub.jp
SUMMARY:【6/5岐阜】におい認識テスト
DESCRIPTION:イベント名：におい認識テスト\nイベントURL\n開催日時：2022-06-05\n開催時間：13:00〜13：45\n開催場所：サニーサイドインターナショナルスクール　岐阜県岐阜市岩井4-10-25\n開催場所URL：https://www.sunnyside-international.jp/about/access/\n参加費：2500円\n定員：8組\n参加条件\nNW1+NW2\n詳細\n6月5日ファンマッチ開催の午後の部が始まる前に開催します。\n参加者が3組に達しない場合は中止いたします。\nファンマッチ　9000円\n認識テスト　　2500円 \n主催：buono teach\n担当者名：矢野　淳子\n問い合わせ先Tel：08031199696
URL:https://noseworksportsclub.jp/event/tribe_events-2348/
LOCATION:サニーサイドインターナショナルスクール\, 岩井4-10-25\, 岐阜市\, 岐阜県\, 501-3101
CATEGORIES:におい認識テスト・競技会
ATTACH;FMTTYPE=image/jpeg:https://noseworksportsclub.jp/wp-content/uploads/2021/08/bb88610f473099b518960811e8cb41df.jpg
ORGANIZER;CN="buono teach%EF%BC%88%E3%83%9C%E3%83%BC%E3%83%8E%E3%83%86%E3%82%A3%E3%83%BC%E3%83%81%EF%BC%89":MAILTO:buono8181@gmail.com
END:VEVENT
BEGIN:VEVENT
DTSTART;TZID=Asia/Tokyo:20220605T100000
DTEND;TZID=Asia/Tokyo:20220605T160000
DTSTAMP:20260426T101347
CREATED:20220507T212838Z
LAST-MODIFIED:20220507T214612Z
UID:2353-1654423200-1654444800@noseworksportsclub.jp
SUMMARY:【6/5 岐阜】第2回　BTノーズワークファンマッチ
DESCRIPTION:イベント名：第2回　BTノーズワークファンマッチ\n開催日時：2022-06-05\n開催時間：10:00〜16：00\n開催場所：サニーサイドインターナショナルスクール　岐阜市岩井4-10-25\n開催場所URL：https://www.sunnyside-international.jp/about/access/\n参加費：9000円\n定員：10組\n参加条件\nNW1\n詳細\n定員は12組です。 \nお申し込みは直接矢野淳子のメールにお願いいたします。\n認識テスト希望の方は合わせてお申込みください。 \n主催：buono teach\n担当者名：矢野　淳子\n問い合わせ先Tel：08031199696
URL:https://noseworksportsclub.jp/event/tribe_events-2353/
LOCATION:サニーサイドインターナショナルスクール\, 岩井4-10-25\, 岐阜市\, 岐阜県\, 501-3101
CATEGORIES:におい認識テスト・競技会
ATTACH;FMTTYPE=image/jpeg:https://noseworksportsclub.jp/wp-content/uploads/2021/08/bb88610f473099b518960811e8cb41df.jpg
ORGANIZER;CN="buono teach%EF%BC%88%E3%83%9C%E3%83%BC%E3%83%8E%E3%83%86%E3%82%A3%E3%83%BC%E3%83%81%EF%BC%89":MAILTO:buono8181@gmail.com
END:VEVENT
BEGIN:VEVENT
DTSTART;TZID=Asia/Tokyo:20220612T090000
DTEND;TZID=Asia/Tokyo:20220612T120000
DTSTAMP:20260426T101347
CREATED:20220507T212918Z
LAST-MODIFIED:20220507T214415Z
UID:2338-1655024400-1655035200@noseworksportsclub.jp
SUMMARY:【6/12 東京】におい認識テスト
DESCRIPTION:イベント名：におい認識テスト\nイベントURL\n開催日時：2022-06-12\n開催時間：9:00〜12：00\n開催場所：保谷ゴルフセンター　東京都西東京市保谷町５丁目１６−４\n開催場所URL：http://hoyagolf.com/\n参加費：5\,000円\n定員：8組\n参加条件\nNW1\,NW2\,NW3\n詳細\nNW1（ローリエ）、NW2（ユーカリ）、NW3（ヒノキ）の順にテストを行います。\nNW2の受験条件はNW1に受かっていること。\nNW2の受験条件はNW3に受かっていること。\n会場は屋外です。 \nにおい認識テスト　3\,000円\n会場代　 1\,500円\nデータ管理費　500円 \n主催：SCENT LINE（セントライン）\n担当者名：近藤 奈緒子
URL:https://noseworksportsclub.jp/event/tribe_events-2338/
LOCATION:保谷ゴルフセンター\, 保谷町５丁目１６−４\, 西東京市\, 東京都\, 202-0015
CATEGORIES:におい認識テスト・競技会
ATTACH;FMTTYPE=image/jpeg:https://noseworksportsclub.jp/wp-content/uploads/2022/05/8bb4074563dbbe038e367a37529d1dac.jpg
ORGANIZER;CN="SCENT LINE(%E3%82%BB%E3%83%B3%E3%83%88%E3%83%A9%E3%82%A4%E3%83%B3)%EF%BC%9A%E8%BF%91%E8%97%A4":MAILTO:mail@scentline.jp
END:VEVENT
END:VCALENDAR