BEGIN:VCALENDAR
VERSION:2.0
PRODID:-//ノーズワークスポーツクラブ - ECPv6.15.20//NONSGML v1.0//EN
CALSCALE:GREGORIAN
METHOD:PUBLISH
X-ORIGINAL-URL:https://noseworksportsclub.jp
X-WR-CALDESC:ノーズワークスポーツクラブ のイベント
REFRESH-INTERVAL;VALUE=DURATION:PT1H
X-Robots-Tag:noindex
X-PUBLISHED-TTL:PT1H
BEGIN:VTIMEZONE
TZID:Asia/Tokyo
BEGIN:STANDARD
TZOFFSETFROM:+0900
TZOFFSETTO:+0900
TZNAME:JST
DTSTART:20240101T000000
END:STANDARD
END:VTIMEZONE
BEGIN:VEVENT
DTSTART;TZID=Asia/Tokyo:20251214T090000
DTEND;TZID=Asia/Tokyo:20251214T180000
DTSTAMP:20260421T204852
CREATED:20250903T150313Z
LAST-MODIFIED:20251017T150120Z
UID:7704-1765702800-1765735200@noseworksportsclub.jp
SUMMARY:【兵庫】姫路 NW1 全課目
DESCRIPTION:
URL:https://noseworksportsclub.jp/event/%e3%80%90%e5%85%b5%e5%ba%ab%e3%80%91%e5%a7%ab%e8%b7%af-nw1-%e5%85%a8%e8%aa%b2%e7%9b%ae/
CATEGORIES:におい認識テスト・競技会
END:VEVENT
BEGIN:VEVENT
DTSTART;TZID=Asia/Tokyo:20251214T090000
DTEND;TZID=Asia/Tokyo:20251214T180000
DTSTAMP:20260421T204852
CREATED:20250903T150404Z
LAST-MODIFIED:20251017T150035Z
UID:7706-1765702800-1765735200@noseworksportsclub.jp
SUMMARY:【兵庫】姫路 NW2 全課目
DESCRIPTION:
URL:https://noseworksportsclub.jp/event/%e3%80%90%e5%85%b5%e5%ba%ab%e3%80%91%e5%a7%ab%e8%b7%af-nw2-%e5%85%a8%e8%aa%b2%e7%9b%ae/
CATEGORIES:におい認識テスト・競技会
END:VEVENT
END:VCALENDAR