BEGIN:VCALENDAR
VERSION:2.0
PRODID:-//ノーズワークスポーツクラブ - ECPv6.15.20//NONSGML v1.0//EN
CALSCALE:GREGORIAN
METHOD:PUBLISH
X-WR-CALNAME:ノーズワークスポーツクラブ
X-ORIGINAL-URL:https://noseworksportsclub.jp
X-WR-CALDESC:ノーズワークスポーツクラブ のイベント
REFRESH-INTERVAL;VALUE=DURATION:PT1H
X-Robots-Tag:noindex
X-PUBLISHED-TTL:PT1H
BEGIN:VTIMEZONE
TZID:Asia/Tokyo
BEGIN:STANDARD
TZOFFSETFROM:+0900
TZOFFSETTO:+0900
TZNAME:JST
DTSTART:20230101T000000
END:STANDARD
END:VTIMEZONE
BEGIN:VEVENT
DTSTART;VALUE=DATE:20241106
DTEND;VALUE=DATE:20241107
DTSTAMP:20260422T172903
CREATED:20240816T065244Z
LAST-MODIFIED:20240816T065244Z
UID:6449-1730851200-1730937599@noseworksportsclub.jp
SUMMARY:【兵庫】公式ノーズワーク競技会 in 加古川
DESCRIPTION:
URL:https://noseworksportsclub.jp/event/%e3%80%90%e5%85%b5%e5%ba%ab%e3%80%91%e5%85%ac%e5%bc%8f%e3%83%8e%e3%83%bc%e3%82%ba%e3%83%af%e3%83%bc%e3%82%af%e7%ab%b6%e6%8a%80%e4%bc%9a-in-%e5%8a%a0%e5%8f%a4%e5%b7%9d/
CATEGORIES:におい認識テスト・競技会
END:VEVENT
END:VCALENDAR