BEGIN:VCALENDAR
VERSION:2.0
PRODID:-//ノーズワークスポーツクラブ - ECPv6.15.20//NONSGML v1.0//EN
CALSCALE:GREGORIAN
METHOD:PUBLISH
X-ORIGINAL-URL:https://noseworksportsclub.jp
X-WR-CALDESC:ノーズワークスポーツクラブ のイベント
REFRESH-INTERVAL;VALUE=DURATION:PT1H
X-Robots-Tag:noindex
X-PUBLISHED-TTL:PT1H
BEGIN:VTIMEZONE
TZID:Asia/Tokyo
BEGIN:STANDARD
TZOFFSETFROM:+0900
TZOFFSETTO:+0900
TZNAME:JST
DTSTART:20230101T000000
END:STANDARD
END:VTIMEZONE
BEGIN:VEVENT
DTSTART;TZID=Asia/Tokyo:20241030T081500
DTEND;TZID=Asia/Tokyo:20241030T173000
DTSTAMP:20260422T172951
CREATED:20240721T074620Z
LAST-MODIFIED:20241006T030208Z
UID:6214-1730276100-1730309400@noseworksportsclub.jp
SUMMARY:【山梨】JNWSC主催 2024年10月公式ノーズワーク競技会 in 八ヶ岳
DESCRIPTION:
URL:https://noseworksportsclub.jp/event/jnwsc%e4%b8%bb%e5%82%ac-2024%e5%b9%b410%e6%9c%88%e5%85%ac%e5%bc%8f%e3%83%8e%e3%83%bc%e3%82%ba%e3%83%af%e3%83%bc%e3%82%af%e7%ab%b6%e6%8a%80%e4%bc%9ain%e5%85%ab%e3%83%b6%e5%b2%b3/
CATEGORIES:におい認識テスト・競技会
END:VEVENT
END:VCALENDAR