BEGIN:VCALENDAR
VERSION:2.0
PRODID:-//ノーズワークスポーツクラブ - ECPv6.15.20//NONSGML v1.0//EN
CALSCALE:GREGORIAN
METHOD:PUBLISH
X-ORIGINAL-URL:https://noseworksportsclub.jp
X-WR-CALDESC:ノーズワークスポーツクラブ のイベント
REFRESH-INTERVAL;VALUE=DURATION:PT1H
X-Robots-Tag:noindex
X-PUBLISHED-TTL:PT1H
BEGIN:VTIMEZONE
TZID:Asia/Tokyo
BEGIN:STANDARD
TZOFFSETFROM:+0900
TZOFFSETTO:+0900
TZNAME:JST
DTSTART:20230101T000000
END:STANDARD
END:VTIMEZONE
BEGIN:VEVENT
DTSTART;TZID=Asia/Tokyo:20240222T073000
DTEND;TZID=Asia/Tokyo:20240222T170000
DTSTAMP:20260423T081918
CREATED:20231225T025043Z
LAST-MODIFIED:20231226T102245Z
UID:4441-1708587000-1708621200@noseworksportsclub.jp
SUMMARY:【2/22 兵庫】公式ノーズワーク競技会 in 加古川
DESCRIPTION:関西初開催！\nピッレ・アンデション女史ジャッジによる公式ノーズワーク競技会を実施します\n\n\n開催日時：2024-02-22\n開催時間：7:30〜17：00\n開催場所：ON THE HILL 兵庫県加古川市加古川町大野1754-2\n参加費：18000円\n定員：18組\nエントリー選出方法：先着順\n参加条件：NW1\n・NW1の認識テストに合格していること\n・予防接種証明書（狂犬病＆混合ワクチンの2種類）、または猶予証明書を提示できること\n \nエントリー期間\n▶2023年12月27日（水）AM10：00～2024年1月31日（水）AM10：00 \n開催概要PDF
URL:https://noseworksportsclub.jp/event/20240222-2/
LOCATION:ON THE HILL\, 大野1754-2\, 加古川市加古川町\, 兵庫県\, 675-0061\, 日本
CATEGORIES:におい認識テスト・競技会
ORGANIZER;CN="Buono Dog Training":MAILTO:buono8181@gmail.com
END:VEVENT
END:VCALENDAR