BEGIN:VCALENDAR
VERSION:2.0
PRODID:-//ノーズワークスポーツクラブ - ECPv6.15.20//NONSGML v1.0//EN
CALSCALE:GREGORIAN
METHOD:PUBLISH
X-ORIGINAL-URL:https://noseworksportsclub.jp
X-WR-CALDESC:ノーズワークスポーツクラブ のイベント
REFRESH-INTERVAL;VALUE=DURATION:PT1H
X-Robots-Tag:noindex
X-PUBLISHED-TTL:PT1H
BEGIN:VTIMEZONE
TZID:Asia/Tokyo
BEGIN:STANDARD
TZOFFSETFROM:+0900
TZOFFSETTO:+0900
TZNAME:JST
DTSTART:20220101T000000
END:STANDARD
END:VTIMEZONE
BEGIN:VEVENT
DTSTART;TZID=Asia/Tokyo:20231125T094500
DTEND;TZID=Asia/Tokyo:20231125T123000
DTSTAMP:20260423T134216
CREATED:20231023T120207Z
LAST-MODIFIED:20231023T120207Z
UID:4065-1700905500-1700915400@noseworksportsclub.jp
SUMMARY:【11/25 東京】におい認識テスト
DESCRIPTION:イベント名：におい認識テスト \n開催日時：2023-11-25\n開催時間：9:45〜12：30\n開催場所：197-0832　東京都あきる野市上代継600　 東京サマーランドゴルフ練習場\n開催場所URL：https://maps.app.goo.gl/sydexg6FJgQhpeWZ8\n参加費：8\,500円\n定員：10組\n参加条件\nNW1＋NW2＋NW3\n詳細\n受付 9時30分から\n前半：におい認識テスト 1クラス 5\,000円\n（同日２クラス受験　＋3\,500円）\n後半：競技会体験教室　3\,500円 \n主催：SCENT LINE\n担当者名：近藤奈緒子
URL:https://noseworksportsclub.jp/event/%e3%80%9011-25-%e6%9d%b1%e4%ba%ac%e3%80%91%e3%81%ab%e3%81%8a%e3%81%84%e8%aa%8d%e8%ad%98%e3%83%86%e3%82%b9%e3%83%88/
LOCATION:東京サマーランドゴルフ練習場\, あきる野市引田1335-10\, 日本
CATEGORIES:におい認識テスト・競技会,教室・レッスン
ORGANIZER;CN="SCENT LINE(%E3%82%BB%E3%83%B3%E3%83%88%E3%83%A9%E3%82%A4%E3%83%B3)%EF%BC%9A%E8%BF%91%E8%97%A4":MAILTO:mail@scentline.jp
END:VEVENT
END:VCALENDAR