BEGIN:VCALENDAR
VERSION:2.0
PRODID:-//ノーズワークスポーツクラブ - ECPv6.15.20//NONSGML v1.0//EN
CALSCALE:GREGORIAN
METHOD:PUBLISH
X-ORIGINAL-URL:https://noseworksportsclub.jp
X-WR-CALDESC:ノーズワークスポーツクラブ のイベント
REFRESH-INTERVAL;VALUE=DURATION:PT1H
X-Robots-Tag:noindex
X-PUBLISHED-TTL:PT1H
BEGIN:VTIMEZONE
TZID:Asia/Tokyo
BEGIN:STANDARD
TZOFFSETFROM:+0900
TZOFFSETTO:+0900
TZNAME:JST
DTSTART:20220101T000000
END:STANDARD
END:VTIMEZONE
BEGIN:VEVENT
DTSTART;TZID=Asia/Tokyo:20231102T080000
DTEND;TZID=Asia/Tokyo:20231102T170000
DTSTAMP:20260423T134729
CREATED:20231018T171111Z
LAST-MODIFIED:20231230T045048Z
UID:4054-1698912000-1698944400@noseworksportsclub.jp
SUMMARY:【11/2 静岡 】第１回公式ノーズワーク競技会 in 伊豆
DESCRIPTION:イベント名：第一回公式ノーズワーク競技会 \n開催日時：2023-11-02\n開催時間：8:00〜17：00\n開催場所：伊豆\n開催場所URL：\n参加費：12\,000円\n定員：20組
URL:https://noseworksportsclub.jp/event/%e3%80%9011-2-%e9%9d%99%e5%b2%a1-%e3%80%91%e7%ac%ac%e4%b8%80%e5%9b%9e%e5%85%ac%e5%bc%8f%e3%83%8e%e3%83%bc%e3%82%ba%e3%83%af%e3%83%bc%e3%82%af%e7%ab%b6%e6%8a%80%e4%bc%9a-in-%e4%bc%8a%e8%b1%86/
CATEGORIES:におい認識テスト・競技会
ATTACH;FMTTYPE=image/jpeg:https://noseworksportsclub.jp/wp-content/uploads/2023/09/cf7810a24a833629eb86a8a2311048e2.jpg
ORGANIZER;CN="JNWSC":MAILTO:info @ noseworksportsclub.jp
END:VEVENT
END:VCALENDAR