BEGIN:VCALENDAR
VERSION:2.0
PRODID:-//ノーズワークスポーツクラブ - ECPv6.15.20//NONSGML v1.0//EN
CALSCALE:GREGORIAN
METHOD:PUBLISH
X-WR-CALNAME:ノーズワークスポーツクラブ
X-ORIGINAL-URL:https://noseworksportsclub.jp
X-WR-CALDESC:ノーズワークスポーツクラブ のイベント
REFRESH-INTERVAL;VALUE=DURATION:PT1H
X-Robots-Tag:noindex
X-PUBLISHED-TTL:PT1H
BEGIN:VTIMEZONE
TZID:Asia/Tokyo
BEGIN:STANDARD
TZOFFSETFROM:+0900
TZOFFSETTO:+0900
TZNAME:JST
DTSTART:20220101T000000
END:STANDARD
END:VTIMEZONE
BEGIN:VEVENT
DTSTART;TZID=Asia/Tokyo:20231003T110000
DTEND;TZID=Asia/Tokyo:20231003T123000
DTSTAMP:20260423T151103
CREATED:20230724T132944Z
LAST-MODIFIED:20230825T143757Z
UID:3886-1696330800-1696336200@noseworksportsclub.jp
SUMMARY:【10/3 岐阜】におい認識テスト
DESCRIPTION:イベント種別：におい認識テスト\nイベント名：におい認識テスト\nイベントURL　https://tomo-iki.jp/\n開催日時：2023-10-03\n開催時間：11:00〜12：30\n開催場所：ONELife（岐阜市岩地2-4-3）\n開催場所URL：https://tomo-iki.jp/\n参加費：6000\n定員：5組\n参加条件\nNW1\,NW2\n詳細\n参加費５５００円、登録料５００円 \n主催：ONELife\n担当者名：島田由紀子\n問い合わせ先Tel：058-214-3442\n電話番号の掲載：掲載する
URL:https://noseworksportsclub.jp/event/tribe_events-3886/
LOCATION:ONE Life\, 岩地2-4-3\, 岐阜市\, 岐阜県\, 5008225\, 日本
CATEGORIES:におい認識テスト・競技会
ORGANIZER;CN="ONE Life":MAILTO:contact@tomo-iki.jp
END:VEVENT
END:VCALENDAR