BEGIN:VCALENDAR
VERSION:2.0
PRODID:-//ノーズワークスポーツクラブ - ECPv6.15.20//NONSGML v1.0//EN
CALSCALE:GREGORIAN
METHOD:PUBLISH
X-ORIGINAL-URL:https://noseworksportsclub.jp
X-WR-CALDESC:ノーズワークスポーツクラブ のイベント
REFRESH-INTERVAL;VALUE=DURATION:PT1H
X-Robots-Tag:noindex
X-PUBLISHED-TTL:PT1H
BEGIN:VTIMEZONE
TZID:Asia/Tokyo
BEGIN:STANDARD
TZOFFSETFROM:+0900
TZOFFSETTO:+0900
TZNAME:JST
DTSTART:20220101T000000
END:STANDARD
END:VTIMEZONE
BEGIN:VEVENT
DTSTART;TZID=Asia/Tokyo:20230130T100000
DTEND;TZID=Asia/Tokyo:20230130T110000
DTSTAMP:20260426T003616
CREATED:20220827T230009Z
LAST-MODIFIED:20230207T093438Z
UID:3107-1675072800-1675076400@noseworksportsclub.jp
SUMMARY:【1/30 名古屋 】におい認識テスト
DESCRIPTION:開催日時：2023-01-30\n開催時間：10:00〜11：00\n開催場所：愛知県名古屋市守山区森孝3丁目122　Pooches\n開催場所URL：\n参加費：2500円\n定員：7組\n参加条件\nNW1\n詳細\nローリエの匂いを覚えていること。 \n主催：島田由紀子\n担当者名：島田由紀子
URL:https://noseworksportsclub.jp/event/tribe_events-3107/
LOCATION:Pooches\, 名古屋市守山区\, 森孝3丁目122\, 愛知県\, 日本
CATEGORIES:におい認識テスト・競技会
END:VEVENT
END:VCALENDAR