BEGIN:VCALENDAR
VERSION:2.0
PRODID:-//ノーズワークスポーツクラブ - ECPv6.15.20//NONSGML v1.0//EN
CALSCALE:GREGORIAN
METHOD:PUBLISH
X-ORIGINAL-URL:https://noseworksportsclub.jp
X-WR-CALDESC:ノーズワークスポーツクラブ のイベント
REFRESH-INTERVAL;VALUE=DURATION:PT1H
X-Robots-Tag:noindex
X-PUBLISHED-TTL:PT1H
BEGIN:VTIMEZONE
TZID:Asia/Tokyo
BEGIN:STANDARD
TZOFFSETFROM:+0900
TZOFFSETTO:+0900
TZNAME:JST
DTSTART:20210101T000000
END:STANDARD
END:VTIMEZONE
BEGIN:VEVENT
DTSTART;TZID=Asia/Tokyo:20221123T103000
DTEND;TZID=Asia/Tokyo:20221123T143000
DTSTAMP:20260426T045044
CREATED:20220814T010215Z
LAST-MODIFIED:20221123T012649Z
UID:3083-1669199400-1669213800@noseworksportsclub.jp
SUMMARY:【11/23 千葉】NW1非公式競技会 - Sniff&Go（４課目） in 千葉
DESCRIPTION:イベント名：【NW1非公式競技会】Sniff&Go（４課目） in 千葉\nイベントURL www.facebook.com/scentline.jp/posts/pfbid0pZ9AKChDDpbaBbH5roMpxvPDPjPcBu5bnJmetDabPg3YRMBGNcg7zXsdYKQoePzCl\n開催日時：2022-11-23\n開催時間：10:30〜14：30\n開催場所：299-0222 千葉県袖ケ浦市上宮田246\n開催場所URL：https://forest-dog.com/\n参加費：6500円〜\n定員：10組\n参加条件\nローリエの芳香蒸留水でサーチができること\n詳細\n・11/23（水・祝）\n『ノーズワーク非公式競技会 Sniff &Go（４課目）』\n※スニッフ&ゴーとは、ノーズワーク非公式競技会のこと。\n成績がつき順位が出る。自分の出番が終わったら帰ってもOK。 \n内容：NW1（初級）の全課目（４種類のサーチエリア）です。\n各エリアには、ローリエのハイドが１つ隠されています。\n日頃の実力試しや、競技会形式の経験、\n犬も人も慣れてメンタル強化！など、\nさまざまな目的で是非ご参加ください。\n制限時間内に発見できるかな？！\n順位は　発見したかどうか？フォルトの数、タイムの順につきます。\n終了後には、スコアシートも確認いただけます。 \n各クラスへのお申し込み、お問い合わせ\nメールまたは以下のQRコード（申込フォーム）にて\nmail@scentline.jp\n申込項目：飼い主さんの名前、ご住所、当日連絡先（携帯）、\n愛犬の名前、性別、年齢、犬種、体重、その他（質問等あれば） \n主催：SCENT LINE（セントライン）\n担当者名：近藤 奈緒子
URL:https://noseworksportsclub.jp/event/tribe_events-3083/
LOCATION:フォレストドッグケアセンター\, 袖ケ浦市\, 上宮田\, 千葉県\, 299-0222\, 日本
CATEGORIES:におい認識テスト・競技会
ATTACH;FMTTYPE=image/jpeg:https://noseworksportsclub.jp/wp-content/uploads/2022/08/310016620_1495131124284296_7620542892844853748_n-1-e1667054986248.jpg
ORGANIZER;CN="SCENT LINE(%E3%82%BB%E3%83%B3%E3%83%88%E3%83%A9%E3%82%A4%E3%83%B3)%EF%BC%9A%E8%BF%91%E8%97%A4":MAILTO:mail@scentline.jp
END:VEVENT
END:VCALENDAR