BEGIN:VCALENDAR
VERSION:2.0
PRODID:-//ノーズワークスポーツクラブ - ECPv6.15.20//NONSGML v1.0//EN
CALSCALE:GREGORIAN
METHOD:PUBLISH
X-WR-CALNAME:ノーズワークスポーツクラブ
X-ORIGINAL-URL:https://noseworksportsclub.jp
X-WR-CALDESC:ノーズワークスポーツクラブ のイベント
REFRESH-INTERVAL;VALUE=DURATION:PT1H
X-Robots-Tag:noindex
X-PUBLISHED-TTL:PT1H
BEGIN:VTIMEZONE
TZID:Asia/Tokyo
BEGIN:STANDARD
TZOFFSETFROM:+0900
TZOFFSETTO:+0900
TZNAME:JST
DTSTART:20210101T000000
END:STANDARD
END:VTIMEZONE
BEGIN:VEVENT
DTSTART;TZID=Asia/Tokyo:20220525T090000
DTEND;TZID=Asia/Tokyo:20220525T223000
DTSTAMP:20260426T130825
CREATED:20220507T212458Z
LAST-MODIFIED:20220507T214843Z
UID:2313-1653469200-1653517800@noseworksportsclub.jp
SUMMARY:【5/25 岐阜】におい認識テスト
DESCRIPTION:イベント名：におい認識テスト\nイベントURL\n開催日時：2022-05-25\n開催時間：9:15〜10：30\n開催場所：岐阜市岩地２－４－３\n開催場所URL：https://tomo-iki.jp/access\n参加費：6000円\n定員：4組\n参加条件\nNW1\n詳細\nこんにちは。岐阜市のしつけ教室ONELifeです。\n今回、NW1の認識テストを開催しますので、ご興味ある方はぜひお問い合わせください。\n参加条件はローリエのサーチができ、JNWSCのHPに記載のあるマナーがある方とさせていただきます。\n認識テスト終了後、ワンポイントレッスンも予定しています。 \n料金：6000円　（5500円（受験料＋レッスン代）＋500円（登録料）） \n主催：ドッグ＆オーナーズスクールONELife\n担当者名：島田\n問い合わせ先Tel：0582143442
URL:https://noseworksportsclub.jp/event/tribe_events-2313/
LOCATION:ONE Life\, 岩地2-4-3\, 岐阜市\, 岐阜県\, 5008225\, 日本
CATEGORIES:におい認識テスト・競技会
ATTACH;FMTTYPE=image/jpeg:https://noseworksportsclub.jp/wp-content/uploads/2022/04/e511f4657ee6017af3e8a861ee36f763-e1650810079303.jpg
ORGANIZER;CN="ONE Life":MAILTO:contact@tomo-iki.jp
END:VEVENT
END:VCALENDAR